BEGIN:VCALENDAR
VERSION:2.0
PRODID:-//Metropolregion - ECPv6.15.13//NONSGML v1.0//EN
CALSCALE:GREGORIAN
METHOD:PUBLISH
X-ORIGINAL-URL:https://metropolregion.de
X-WR-CALDESC:Veranstaltungen für Metropolregion
REFRESH-INTERVAL;VALUE=DURATION:PT1H
X-Robots-Tag:noindex
X-PUBLISHED-TTL:PT1H
BEGIN:VTIMEZONE
TZID:Europe/Berlin
BEGIN:DAYLIGHT
TZOFFSETFROM:+0100
TZOFFSETTO:+0200
TZNAME:CEST
DTSTART:20240331T010000
END:DAYLIGHT
BEGIN:STANDARD
TZOFFSETFROM:+0200
TZOFFSETTO:+0100
TZNAME:CET
DTSTART:20241027T010000
END:STANDARD
BEGIN:DAYLIGHT
TZOFFSETFROM:+0100
TZOFFSETTO:+0200
TZNAME:CEST
DTSTART:20250330T010000
END:DAYLIGHT
BEGIN:STANDARD
TZOFFSETFROM:+0200
TZOFFSETTO:+0100
TZNAME:CET
DTSTART:20251026T010000
END:STANDARD
BEGIN:DAYLIGHT
TZOFFSETFROM:+0100
TZOFFSETTO:+0200
TZNAME:CEST
DTSTART:20260329T010000
END:DAYLIGHT
BEGIN:STANDARD
TZOFFSETFROM:+0200
TZOFFSETTO:+0100
TZNAME:CET
DTSTART:20261025T010000
END:STANDARD
END:VTIMEZONE
BEGIN:VEVENT
DTSTART;TZID=Europe/Berlin:20250104T200000
DTEND;TZID=Europe/Berlin:20250104T213000
DTSTAMP:20260425T184419
CREATED:20241209T080512Z
LAST-MODIFIED:20241209T095510Z
UID:189950-1736020800-1736026200@metropolregion.de
SUMMARY:Kino | Max Mon Amour
DESCRIPTION:Peter\, ein in Paris lebender englischer Diplomat vermutet\, dass seine Frau Margaret ihn hintergeht und engagiert einen Privatdetektiv. Schnell findet dieser heraus\, dass Margaret ein Apartment gemietet hat und dort ihre Nachmittage verbringt. Eines Tages geht Peter in die Wohnung und erwischt seine Frau nackt im Bett - mit einem Schimpansen. Zuerst ist er fassungslos\, dann gibt er sich versöhnlich und schlägt vor\, den Affen Max mit in die eheliche Wohnung zu nehmen.\nEin Film mit Charlotte Rampling\, Anthony Higgins\, Bernard-Pierre Donnadieu\, Victoria Abril u.a. \nZehn Jahre nach seinem Skandalfilm Ai No Korīda (Im Reich der Sinne\, 1976) legte der japanische Regisseur Nagisa Oshima diese surreale Ehe-und Salonkomödie vor\, die an die späten Filme Luis Buñuels anknüpft. Das Skript stammt von Jean-Claude Carrière\, der auch das Drehbuch zu Le charme discret de la bourgeoisie (Der diskrete Charme der Bourgeoisie\, 1972) verfasste. Das Buch zu Max mon amour hielt Charlotte Rampling für "das beste\, das ich gelesen habe". (Berlinale) \nR: Nagisa Oshima\nF/USA\, 1986\, OmU (97 Min) \nTrailer
URL:https://metropolregion.de/veranstaltung/max-mon-amour/
LOCATION:KINO IM SPRENGEL\, Klaus-Müller-Kilian-Weg 1\, Hannover\, 30167
CATEGORIES:Deutsch-französische Zusammenarbeit,Standortmarketing
END:VEVENT
END:VCALENDAR