BEGIN:VCALENDAR
VERSION:2.0
PRODID:-//Metropolregion - ECPv6.15.13//NONSGML v1.0//EN
CALSCALE:GREGORIAN
METHOD:PUBLISH
X-WR-CALNAME:Metropolregion
X-ORIGINAL-URL:https://metropolregion.de
X-WR-CALDESC:Veranstaltungen für Metropolregion
REFRESH-INTERVAL;VALUE=DURATION:PT1H
X-Robots-Tag:noindex
X-PUBLISHED-TTL:PT1H
BEGIN:VTIMEZONE
TZID:Europe/Berlin
BEGIN:DAYLIGHT
TZOFFSETFROM:+0100
TZOFFSETTO:+0200
TZNAME:CEST
DTSTART:20240331T010000
END:DAYLIGHT
BEGIN:STANDARD
TZOFFSETFROM:+0200
TZOFFSETTO:+0100
TZNAME:CET
DTSTART:20241027T010000
END:STANDARD
BEGIN:DAYLIGHT
TZOFFSETFROM:+0100
TZOFFSETTO:+0200
TZNAME:CEST
DTSTART:20250330T010000
END:DAYLIGHT
BEGIN:STANDARD
TZOFFSETFROM:+0200
TZOFFSETTO:+0100
TZNAME:CET
DTSTART:20251026T010000
END:STANDARD
BEGIN:DAYLIGHT
TZOFFSETFROM:+0100
TZOFFSETTO:+0200
TZNAME:CEST
DTSTART:20260329T010000
END:DAYLIGHT
BEGIN:STANDARD
TZOFFSETFROM:+0200
TZOFFSETTO:+0100
TZNAME:CET
DTSTART:20261025T010000
END:STANDARD
END:VTIMEZONE
BEGIN:VEVENT
DTSTART;TZID=Europe/Berlin:20250107T170000
DTEND;TZID=Europe/Berlin:20250107T180000
DTSTAMP:20260425T184156
CREATED:20241216T140110Z
LAST-MODIFIED:20241218T092655Z
UID:190602-1736269200-1736272800@metropolregion.de
SUMMARY:Vortrag und Lesung | SKETCHING - Das ist alles von der Kunstfreiheit gedeckt
DESCRIPTION:Um 17 Uhr startet zur Künstlerischen Intervention Charlie Hebdo – Zehn Jahre nach „Je suis Charlie“ in den Ausstellungsräumen des Wilhelm Busch Museums eine besondere Lesung mit Bühnenpoetin Antonia Josefa und Autor Kersten Flenter. Dabei beleuchten die beiden in ihrer Lesung die Freiheit der Kunst von unterschiedlichen Seiten. Illustratorin Emma Harkämper verwandelt dabei per Live Sketching Texte in Bilder. Performt wird an unterschiedlichen Punkten der Künstlerischen Intervention im Haus. \nMehr Infos
URL:https://metropolregion.de/veranstaltung/vortrag-und-lesung-sketching-das-ist-alles-von-der-kunstfreiheit-gedeckt/
LOCATION:Wilhelm Busch Museum - Museum für Karikatur und Zeichnekunst\, Georgengarten 1\, Hannover\, 30167
CATEGORIES:Deutsch-französische Zusammenarbeit,Standortmarketing
ATTACH;FMTTYPE=image/jpeg:https://metropolregion.de/wp-content/uploads/2024/12/Jokesch-Daniel-Karikaturisten-einst-und-heute-scaled.jpg
END:VEVENT
END:VCALENDAR