BEGIN:VCALENDAR
VERSION:2.0
PRODID:-//Metropolregion - ECPv6.15.13//NONSGML v1.0//EN
CALSCALE:GREGORIAN
METHOD:PUBLISH
X-WR-CALNAME:Metropolregion
X-ORIGINAL-URL:https://metropolregion.de
X-WR-CALDESC:Veranstaltungen für Metropolregion
REFRESH-INTERVAL;VALUE=DURATION:PT1H
X-Robots-Tag:noindex
X-PUBLISHED-TTL:PT1H
BEGIN:VTIMEZONE
TZID:Europe/Berlin
BEGIN:DAYLIGHT
TZOFFSETFROM:+0100
TZOFFSETTO:+0200
TZNAME:CEST
DTSTART:20240331T010000
END:DAYLIGHT
BEGIN:STANDARD
TZOFFSETFROM:+0200
TZOFFSETTO:+0100
TZNAME:CET
DTSTART:20241027T010000
END:STANDARD
BEGIN:DAYLIGHT
TZOFFSETFROM:+0100
TZOFFSETTO:+0200
TZNAME:CEST
DTSTART:20250330T010000
END:DAYLIGHT
BEGIN:STANDARD
TZOFFSETFROM:+0200
TZOFFSETTO:+0100
TZNAME:CET
DTSTART:20251026T010000
END:STANDARD
BEGIN:DAYLIGHT
TZOFFSETFROM:+0100
TZOFFSETTO:+0200
TZNAME:CEST
DTSTART:20260329T010000
END:DAYLIGHT
BEGIN:STANDARD
TZOFFSETFROM:+0200
TZOFFSETTO:+0100
TZNAME:CET
DTSTART:20261025T010000
END:STANDARD
END:VTIMEZONE
BEGIN:VEVENT
DTSTART;VALUE=DATE:20250114
DTEND;VALUE=DATE:20250115
DTSTAMP:20260425T184307
CREATED:20241120T085855Z
LAST-MODIFIED:20241120T085855Z
UID:187939-1736812800-1736899199@metropolregion.de
SUMMARY:Infotag Kulturcampus Hildesheim
DESCRIPTION:Kultur kann man studieren - zum Beispiel am Hildesheimer Kulturcampus.\nDie Stiftung Universität Hildesheim bietet insgesamt vier Bachelor-Studiengänge und vier Master-Studiengänge im Fachbereich 2 (Kulturcampus) an. \nAm 14. Januar 2025 öffnet der Fachbereich 2 an der Domäne Marienburg seine Türen für alle Studieninteressierten. Neben Informationen zu den einzelnen Bachelor- und Masterstudiengängen sowie den jeweiligen Eignungsprüfungen gibt es Gelegenheit\, Lehrveranstaltungen zu besuchen und sich an einem Infopoint gezielt zu informieren und auszutauschen. \n  \nZur Anmeldung: https://www.uni-hildesheim.de/fb2/anmeldung-schnupperstudium-infotag-fb2/
URL:https://metropolregion.de/veranstaltung/infotag-kulturcampus-hildesheim/
LOCATION:Kulturcampus Domäne Marienburg\, Domänenstraße 1\, Hildesheim\, Niedersachsen\, 31141\, Deutschland
ATTACH;FMTTYPE=image/png:https://metropolregion.de/wp-content/uploads/2024/11/SVD-Infotag-Instagram.png
END:VEVENT
END:VCALENDAR