BEGIN:VCALENDAR
VERSION:2.0
PRODID:-//Metropolregion - ECPv6.15.13//NONSGML v1.0//EN
CALSCALE:GREGORIAN
METHOD:PUBLISH
X-WR-CALNAME:Metropolregion
X-ORIGINAL-URL:https://metropolregion.de
X-WR-CALDESC:Veranstaltungen für Metropolregion
REFRESH-INTERVAL;VALUE=DURATION:PT1H
X-Robots-Tag:noindex
X-PUBLISHED-TTL:PT1H
BEGIN:VTIMEZONE
TZID:Europe/Berlin
BEGIN:DAYLIGHT
TZOFFSETFROM:+0100
TZOFFSETTO:+0200
TZNAME:CEST
DTSTART:20240331T010000
END:DAYLIGHT
BEGIN:STANDARD
TZOFFSETFROM:+0200
TZOFFSETTO:+0100
TZNAME:CET
DTSTART:20241027T010000
END:STANDARD
BEGIN:DAYLIGHT
TZOFFSETFROM:+0100
TZOFFSETTO:+0200
TZNAME:CEST
DTSTART:20250330T010000
END:DAYLIGHT
BEGIN:STANDARD
TZOFFSETFROM:+0200
TZOFFSETTO:+0100
TZNAME:CET
DTSTART:20251026T010000
END:STANDARD
BEGIN:DAYLIGHT
TZOFFSETFROM:+0100
TZOFFSETTO:+0200
TZNAME:CEST
DTSTART:20260329T010000
END:DAYLIGHT
BEGIN:STANDARD
TZOFFSETFROM:+0200
TZOFFSETTO:+0100
TZNAME:CET
DTSTART:20261025T010000
END:STANDARD
END:VTIMEZONE
BEGIN:VEVENT
DTSTART;TZID=Europe/Berlin:20250124T180000
DTEND;TZID=Europe/Berlin:20250124T190000
DTSTAMP:20260425T184226
CREATED:20241216T141006Z
LAST-MODIFIED:20241218T094248Z
UID:190607-1737741600-1737745200@metropolregion.de
SUMMARY:Lesung und Gespräch | Comic Salon im BUSCH: Charlie Hebdo - Wie geht es weiter?
DESCRIPTION:Bei dem neuen Comic-Salon im Wilhelm Busch Museum stellt die Comic-Expertin Katinka Kornacker die Graphic Novels "Die Leichtigkeit" von Catherine Meurisse und "Wir waren Charlie" von Luz vor\, liest Auszüge daraus und zeigt die beeindruckenden Zeichnungen. \nMehr Infos \n  \nDie Veranstaltung findet statt im Rahmen der künstlerischen Intervention: \nCharlie Hebdo – Zehn Jahre nach „Je suis Charlie“\n \nDie Karikatur hält der Gesellschaft den Spiegel vor\, übt Kritik und sägt am Stuhl der Autoritären und Mächtigen. Sie fordert einen heraus - als satirische Kunstform\, die auf- und anregt. Was darf die Kunst und was muss sie dringend? Wo trifft sie auf strenge Zensur und wo tritt sie in Konkurrenz mit anderen Grundrechten? \nAm 07. Januar 2015 wurden bei einem Terroranschlag auf die Redaktion der französischen Satirezeitschrift Charlie Hebdo zwölf Menschen ermordet. Für weitere Betroffene veränderte die Tat ihr Leben und Arbeiten nachhaltig. \nIn Kooperation mit vier weiteren Museen erinnert das Wilhelm Busch Museum nun mit einer künstlerischen Intervention an das Ereignis und wirft Fragen zur Kunstfreiheit auf. Verteilt in den Ausstellungsräumen finden Sie dazu vom 7. bis zum 26. Januar ausgewählte Motive zeitgenössischer Künstler*innen wie Coco oder G. Haderer. Echauffieren Sie sich und diskutieren Sie miteinander! Oft sind die Fragen wichtiger als die Antworten. \nAm 7. Januar bei freiem Eintritt für das gesamte Haus\, 11-19 Uhr \nDauer\nca. 2 Wochen\, 5 Tage \n 
URL:https://metropolregion.de/veranstaltung/lesung-und-gespraech-comic-salon-im-busch-charlie-hebdo-wie-geht-es-weiter/
LOCATION:Wilhelm Busch Museum - Museum für Karikatur und Zeichnekunst\, Georgengarten 1\, Hannover\, 30167
CATEGORIES:Deutsch-französische Zusammenarbeit,Standortmarketing
ATTACH;FMTTYPE=image/jpeg:https://metropolregion.de/wp-content/uploads/2024/12/Landschulz-Dorthe-Verteidigung-Meinungsfreiheit-scaled.jpg
END:VEVENT
END:VCALENDAR