BEGIN:VCALENDAR
VERSION:2.0
PRODID:-//Metropolregion - ECPv6.15.13//NONSGML v1.0//EN
CALSCALE:GREGORIAN
METHOD:PUBLISH
X-WR-CALNAME:Metropolregion
X-ORIGINAL-URL:https://metropolregion.de
X-WR-CALDESC:Veranstaltungen für Metropolregion
REFRESH-INTERVAL;VALUE=DURATION:PT1H
X-Robots-Tag:noindex
X-PUBLISHED-TTL:PT1H
BEGIN:VTIMEZONE
TZID:Europe/Berlin
BEGIN:DAYLIGHT
TZOFFSETFROM:+0100
TZOFFSETTO:+0200
TZNAME:CEST
DTSTART:20240331T010000
END:DAYLIGHT
BEGIN:STANDARD
TZOFFSETFROM:+0200
TZOFFSETTO:+0100
TZNAME:CET
DTSTART:20241027T010000
END:STANDARD
BEGIN:DAYLIGHT
TZOFFSETFROM:+0100
TZOFFSETTO:+0200
TZNAME:CEST
DTSTART:20250330T010000
END:DAYLIGHT
BEGIN:STANDARD
TZOFFSETFROM:+0200
TZOFFSETTO:+0100
TZNAME:CET
DTSTART:20251026T010000
END:STANDARD
BEGIN:DAYLIGHT
TZOFFSETFROM:+0100
TZOFFSETTO:+0200
TZNAME:CEST
DTSTART:20260329T010000
END:DAYLIGHT
BEGIN:STANDARD
TZOFFSETFROM:+0200
TZOFFSETTO:+0100
TZNAME:CET
DTSTART:20261025T010000
END:STANDARD
END:VTIMEZONE
BEGIN:VEVENT
DTSTART;TZID=Europe/Berlin:20250203T203000
DTEND;TZID=Europe/Berlin:20250203T223000
DTSTAMP:20260425T172341
CREATED:20250122T112330Z
LAST-MODIFIED:20250210T122818Z
UID:196994-1738614600-1738621800@metropolregion.de
SUMMARY:Ciné-Club | Heureux Gagnants
DESCRIPTION:Was für ein furioses Regiedebüt! Explosiv und urkomisch!\nDa läuft alles aus dem Ruder\, was nur aus dem Ruder laufen kann.\nWer träumt nicht vom großen Lottogewinn! Millionen\, seid umschlungen! Nie mehr arbeiten! Reichtum! Urlaub! Die schöne Welt! Wie im Fall von Familienvater Paul\, der auf dem Weg in den Urlaub mit der Familie erfährt\, dass er fünf Millionen Euro gewonnen hat\, aber die Frist zur Einlösung fast verstrichen ist. Wie im Fall von Julie\, die nicht nur den 10-Millionen-Euro-Jackpot geknackt hat\, sondern direkt danach sogar von einem jungen Traummann begehrt wird. Wie im Fall von Ahmed\, der mit zwei Freunden zum denkbar ungünstigsten Zeitpunkt entdeckt\, dass er sechs Richtige im Lotto hat. \nMit Anouk Grinberg\, Audrey Lamy\, Fabrice Eboué u.a. \nR: Romain Choay\, Maxime Govare\,\nFrankreich\, 2024\, OmU (100 Min.)\, FSK: 12J. \nTrailer
URL:https://metropolregion.de/veranstaltung/kino-heureux-gagnants/
LOCATION:Kino am Raschplatz\, Am Raschplatz 5\, Hannover\, 30161
CATEGORIES:Deutsch-französische Zusammenarbeit,Europäische Zusammenarbeit
END:VEVENT
END:VCALENDAR