BEGIN:VCALENDAR
VERSION:2.0
PRODID:-//Metropolregion - ECPv6.15.13//NONSGML v1.0//EN
CALSCALE:GREGORIAN
METHOD:PUBLISH
X-WR-CALNAME:Metropolregion
X-ORIGINAL-URL:https://metropolregion.de
X-WR-CALDESC:Veranstaltungen für Metropolregion
REFRESH-INTERVAL;VALUE=DURATION:PT1H
X-Robots-Tag:noindex
X-PUBLISHED-TTL:PT1H
BEGIN:VTIMEZONE
TZID:Europe/Berlin
BEGIN:DAYLIGHT
TZOFFSETFROM:+0100
TZOFFSETTO:+0200
TZNAME:CEST
DTSTART:20240331T010000
END:DAYLIGHT
BEGIN:STANDARD
TZOFFSETFROM:+0200
TZOFFSETTO:+0100
TZNAME:CET
DTSTART:20241027T010000
END:STANDARD
BEGIN:DAYLIGHT
TZOFFSETFROM:+0100
TZOFFSETTO:+0200
TZNAME:CEST
DTSTART:20250330T010000
END:DAYLIGHT
BEGIN:STANDARD
TZOFFSETFROM:+0200
TZOFFSETTO:+0100
TZNAME:CET
DTSTART:20251026T010000
END:STANDARD
BEGIN:DAYLIGHT
TZOFFSETFROM:+0100
TZOFFSETTO:+0200
TZNAME:CEST
DTSTART:20260329T010000
END:DAYLIGHT
BEGIN:STANDARD
TZOFFSETFROM:+0200
TZOFFSETTO:+0100
TZNAME:CET
DTSTART:20261025T010000
END:STANDARD
END:VTIMEZONE
BEGIN:VEVENT
DTSTART;TZID=Europe/Berlin:20250211T090000
DTEND;TZID=Europe/Berlin:20250212T170000
DTSTAMP:20260425T173155
CREATED:20250120T141012Z
LAST-MODIFIED:20250122T062451Z
UID:196910-1739264400-1739379600@metropolregion.de
SUMMARY:Pro Care
DESCRIPTION:Die Pro Care ist die neue Fachmesse für die gesamte Pflegebranche und feiert ihre Premiere am 11. und 12. Februar 2025 in Hannover. Die Messe richtet sich ausdrücklich an alle Akteur*innen der Pflegebranche. Entscheidungsträger*innen ebenso wie Menschen\, die direkt mit pflegebedürftigen Menschen arbeiten. Die Schirmherrschaft haben Bundesgesundheitsminister Prof. Dr. Karl Lauterbach und der niedersächsische Gesundheitsminister Dr. Andreas Philippi übernommen. \n  \nEine Besonderheit der Pro Care ist ihre interdisziplinäre Ausrichtung\, die Pflegefachkräfte aus der stationären\, intensivmedizinischen\, ambulanten und häuslichen Pflege anspricht. Diese Vielfalt ermöglicht es\, Synergien zwischen den verschiedenen Versorgungsbereichen zu schaffen und voneinander zu lernen\, unabhängig davon\, ob die Pflegebedürftigkeit alters-\, krankheits- oder behinderungsbedingt ist. \n  \nAuf der großen Hauptbühne und im begleitenden Kongress zeigen Experten aus allen Bereichen der Pflege\, welche Lösungen die Branche wirklich voranbringen und wie wir gleichzeitig die Wertschätzung für die Beschäftigten in der Pflege erhöhen. \n  \nErwartet werden rund 170 ausstellende Unternehmen und 5.000 Besucherinnen und Besucher. Thematisch umfasst die Pro Care die Bereiche: Küche & Ernährung\, Therapie & Aktivierung\, Beruf & Bildung. Das Motto der Messe: „Damit Pflege Zukunft hat“. \n  \nDie Metropolregion ist an beiden Tagen (11. und 12. Februar)  jeweils von 11:30 Uhr bis 11:55 Uhr auf der Innovationsbühne vertreten und stellt das Projekt "MetroVRsity" vor\, bei dem es um innovatives Lernen durch VR und Digitale Zwillinge geht: https://www.pro-care-hannover.de/veranstaltung/innocircle/for/4398 \n  \nTermin: \n11. und 12. Februar 2025 \nAn beiden Tagen von 09:00 - 17:00 Uhr \n  \nVeranstaltungsort: \nMessegelände \n30521 Hannover\nHalle 7 und  Convention Center  \n  \nAngebot & Themen: \nPflege & Hygiene\, Pflege & Hygiene\, Beruf & Bildung\, Digitales Management & Technik\, Küche & Ernährung\, Therapie & Aktivierung \n  \nBesucherzielgruppen: \n\nFachbesucher*innen aus den Bereichen: Leitung\, Pflege\, Verwaltung\, Hauswirtschaft\, Betreuung\, Therapie\, Studium & Ausbildung\n\n  \nAussteller und Besucherzahlen:  \n\nerwartete Ausstellerzahl: 170 Aussteller*innen\nerwartete Besucherzahl: ca. 5.000 Besucher*innen\n\n  \nKontakt:\nHeike Grosch\nProject Director Pro Care \nTel. +49 511 89-30425\nheike.grosch@messe.de
URL:https://metropolregion.de/veranstaltung/pro-care-fachmesse-fuer-die-pflegebranche/
LOCATION:Messegelände Hannover\, Messegelände\, Hannover\, Niedersachsen\, 30521\, Deutschland
CATEGORIES:Empfohlen,Partnerveranstaltung
ATTACH;FMTTYPE=image/jpeg:https://metropolregion.de/wp-content/uploads/2025/01/Visual-Pro-Care-2025_Bild-Deutsche-Messe-scaled.jpg
ORGANIZER;CN="Deutsche Messe":MAILTO:info@messe.de
END:VEVENT
END:VCALENDAR