BEGIN:VCALENDAR
VERSION:2.0
PRODID:-//Metropolregion - ECPv6.15.13//NONSGML v1.0//EN
CALSCALE:GREGORIAN
METHOD:PUBLISH
X-WR-CALNAME:Metropolregion
X-ORIGINAL-URL:https://metropolregion.de
X-WR-CALDESC:Veranstaltungen für Metropolregion
REFRESH-INTERVAL;VALUE=DURATION:PT1H
X-Robots-Tag:noindex
X-PUBLISHED-TTL:PT1H
BEGIN:VTIMEZONE
TZID:Europe/Berlin
BEGIN:DAYLIGHT
TZOFFSETFROM:+0100
TZOFFSETTO:+0200
TZNAME:CEST
DTSTART:20240331T010000
END:DAYLIGHT
BEGIN:STANDARD
TZOFFSETFROM:+0200
TZOFFSETTO:+0100
TZNAME:CET
DTSTART:20241027T010000
END:STANDARD
BEGIN:DAYLIGHT
TZOFFSETFROM:+0100
TZOFFSETTO:+0200
TZNAME:CEST
DTSTART:20250330T010000
END:DAYLIGHT
BEGIN:STANDARD
TZOFFSETFROM:+0200
TZOFFSETTO:+0100
TZNAME:CET
DTSTART:20251026T010000
END:STANDARD
BEGIN:DAYLIGHT
TZOFFSETFROM:+0100
TZOFFSETTO:+0200
TZNAME:CEST
DTSTART:20260329T010000
END:DAYLIGHT
BEGIN:STANDARD
TZOFFSETFROM:+0200
TZOFFSETTO:+0100
TZNAME:CET
DTSTART:20261025T010000
END:STANDARD
END:VTIMEZONE
BEGIN:VEVENT
DTSTART;TZID=Europe/Berlin:20250217T203000
DTEND;TZID=Europe/Berlin:20250217T220000
DTSTAMP:20260425T172237
CREATED:20250123T104747Z
LAST-MODIFIED:20250210T122803Z
UID:197086-1739824200-1739829600@metropolregion.de
SUMMARY:Ciné-Club | Vingt Dieux
DESCRIPTION:"Trifft uns mitten ins Herz"\nRolling Stone \nTotone ist jung\, temperamentvoll\, unbekümmert. Seine Zeit verbringt er am liebsten mit seinen Kumpels\, geht tanzen und flirten. Bis die Realität ihn einholt. Plötzlich muss er Verantwortung für seine kleine Schwester und den runtergekommenen\, elterlichen Hof im französischen Jura übernehmen. Um für den Lebensunterhalt zu sorgen\, schmiedet er einen Plan: Er will den besten Comté-Käse herstellen. Immerhin winken dem Jahrgangssieger außer einer Goldmedaille 30.000 Euro Preisgeld. Unterstützt wird Totone von seinen Freunden\, seiner Schwester und von seiner großen Liebe Marie-Lise. Auch wenn die nicht immer ganz exakt in die fragwürdigen Methoden von Totone eingeweiht ist. \nMit Clément Faveau\, Luna Garret\, Mathis Bernard\, Dimitry Baudry\, Maïwène Barthelemy\, Armand Sancey Richard\, Lucas Marillier u.a. \nRegie: Louise Courvoisier\nFrankreich\, 2024\, OmU (90 Min.)\, FSK: 12 J. \nTrailer
URL:https://metropolregion.de/veranstaltung/kino-vingt-dieux/
LOCATION:Kino am Raschplatz\, Am Raschplatz 5\, Hannover\, 30161
CATEGORIES:Deutsch-französische Zusammenarbeit,Europäische Zusammenarbeit
END:VEVENT
END:VCALENDAR