BEGIN:VCALENDAR
VERSION:2.0
PRODID:-//Metropolregion - ECPv6.15.13//NONSGML v1.0//EN
CALSCALE:GREGORIAN
METHOD:PUBLISH
X-ORIGINAL-URL:https://metropolregion.de
X-WR-CALDESC:Veranstaltungen für Metropolregion
REFRESH-INTERVAL;VALUE=DURATION:PT1H
X-Robots-Tag:noindex
X-PUBLISHED-TTL:PT1H
BEGIN:VTIMEZONE
TZID:Europe/Berlin
BEGIN:DAYLIGHT
TZOFFSETFROM:+0100
TZOFFSETTO:+0200
TZNAME:CEST
DTSTART:20240331T010000
END:DAYLIGHT
BEGIN:STANDARD
TZOFFSETFROM:+0200
TZOFFSETTO:+0100
TZNAME:CET
DTSTART:20241027T010000
END:STANDARD
BEGIN:DAYLIGHT
TZOFFSETFROM:+0100
TZOFFSETTO:+0200
TZNAME:CEST
DTSTART:20250330T010000
END:DAYLIGHT
BEGIN:STANDARD
TZOFFSETFROM:+0200
TZOFFSETTO:+0100
TZNAME:CET
DTSTART:20251026T010000
END:STANDARD
BEGIN:DAYLIGHT
TZOFFSETFROM:+0100
TZOFFSETTO:+0200
TZNAME:CEST
DTSTART:20260329T010000
END:DAYLIGHT
BEGIN:STANDARD
TZOFFSETFROM:+0200
TZOFFSETTO:+0100
TZNAME:CET
DTSTART:20261025T010000
END:STANDARD
END:VTIMEZONE
BEGIN:VEVENT
DTSTART;TZID=Europe/Berlin:20250317T203000
DTEND;TZID=Europe/Berlin:20250317T220000
DTSTAMP:20260425T160958
CREATED:20250127T081042Z
LAST-MODIFIED:20250210T122740Z
UID:197390-1742243400-1742248800@metropolregion.de
SUMMARY:Ciné-Club | Niki de Saint Phalle
DESCRIPTION:"Eine ungewöhnliche\, bewegende und starke Kinobiografie"\nDR Kultur \nNiki de Saint-Phalle wurde mit ihren Nana-Skulpturen weltberühmt\, als jene Künstlerin\, die mit Messern und Gewehren Gemälde beschoss. Ihre Lebensgeschichte steckt voller Abgründe. Um 1950 lässt die junge Niki alles hinter sich und zieht mit ihrem Mann und ihrer Tochter nach Frankreich. Als Modell und Schauspielerin träumt Niki von einem größeren Leben in Paris. Die Dämonen ihrer Kindheit trägt sie stets mit sich. Irgendwann bricht Niki zusammen und wird Zeit in einer Psychiatrie verbringen. Hier kämpft sie um nichts weniger als die Wahrheit ihres Lebens. Ein starker Wille und kreative Urgewalt lassen sie ausbrechen und eine neue Sprache der Kunst erfinden\, die von Gewalt\, Hoffnung und Weiblichkeit erzählt. Sie erschuf Nanas in allen Formen und Farben\, in die das Publikum ein- und ausgehen konnte. Ihre Kunst wird zu ihrer Waffe - poetisch\, schöpferisch und zielsicher. Und sie traf: die Grenzen der etablierten Kunstwelt. Als TERRORISTIN DER KUNST schreibt Niki de Saint-Phalles Kunstgeschichte. Sie war in den sechziger Jahren die einzige international erfolgreiche Künstlerin auf weiter Flur. \nMit: Charlotte Le Bon\, John Robinson\, Damien Bonnard\, Judith Chemla u.a. \nR: Céline Sallette\nFrankreich\, Belgien 2024\, OmU (98 Min.)\, FSK: 6 J. \nTrailer
URL:https://metropolregion.de/veranstaltung/film-niki-de-saint-phalle/
LOCATION:Kino am Raschplatz\, Am Raschplatz 5\, Hannover\, 30161
CATEGORIES:Deutsch-französische Zusammenarbeit,Europäische Zusammenarbeit
END:VEVENT
END:VCALENDAR