BEGIN:VCALENDAR
VERSION:2.0
PRODID:-//Metropolregion - ECPv6.15.13//NONSGML v1.0//EN
CALSCALE:GREGORIAN
METHOD:PUBLISH
X-ORIGINAL-URL:https://metropolregion.de
X-WR-CALDESC:Veranstaltungen für Metropolregion
REFRESH-INTERVAL;VALUE=DURATION:PT1H
X-Robots-Tag:noindex
X-PUBLISHED-TTL:PT1H
BEGIN:VTIMEZONE
TZID:Europe/Berlin
BEGIN:DAYLIGHT
TZOFFSETFROM:+0100
TZOFFSETTO:+0200
TZNAME:CEST
DTSTART:20240331T010000
END:DAYLIGHT
BEGIN:STANDARD
TZOFFSETFROM:+0200
TZOFFSETTO:+0100
TZNAME:CET
DTSTART:20241027T010000
END:STANDARD
BEGIN:DAYLIGHT
TZOFFSETFROM:+0100
TZOFFSETTO:+0200
TZNAME:CEST
DTSTART:20250330T010000
END:DAYLIGHT
BEGIN:STANDARD
TZOFFSETFROM:+0200
TZOFFSETTO:+0100
TZNAME:CET
DTSTART:20251026T010000
END:STANDARD
BEGIN:DAYLIGHT
TZOFFSETFROM:+0100
TZOFFSETTO:+0200
TZNAME:CEST
DTSTART:20260329T010000
END:DAYLIGHT
BEGIN:STANDARD
TZOFFSETFROM:+0200
TZOFFSETTO:+0100
TZNAME:CET
DTSTART:20261025T010000
END:STANDARD
END:VTIMEZONE
BEGIN:VEVENT
DTSTART;VALUE=DATE:20250328
DTEND;VALUE=DATE:20250330
DTSTAMP:20260425T161111
CREATED:20241106T070333Z
LAST-MODIFIED:20241217T122845Z
UID:185325-1743120000-1743292799@metropolregion.de
SUMMARY:HealthHack 2025
DESCRIPTION:Bist du bereit\, die Gesundheits- und Pflegebranche mit deinen Ideen zu revolutionieren? Dann markiere dir den 28. und 29. März 2025 in deinem Kalender! Bei unserem Hackathon in Braunschweig hast du die Chance\, gemeinsam mit anderen kreativen Köpfen innovative Prototypen\, Apps und Anwendungen zu entwickeln. Egal\, ob du eine eigene Idee hast oder einem Team beitreten möchtest – du wirst von erfahrenen Mentor*innen unterstützt und kannst dein Projekt vor einer hochkarätigen Jury präsentieren. \nSei dabei und gestalte die Zukunft der Gesundheitsversorgung mit! \nWeitere Infos gibt es hier: https://metropolregion.de/gesundheit/healthhack/
URL:https://metropolregion.de/veranstaltung/healthhack-2025/
LOCATION:TRAFO Hub\, Sophienstraße 40\, Braunschweig\, 38118
CATEGORIES:Empfohlen,Gesundheit,Gesundheit News
ATTACH;FMTTYPE=image/png:https://metropolregion.de/wp-content/uploads/2024/11/Neu.png
END:VEVENT
END:VCALENDAR