BEGIN:VCALENDAR
VERSION:2.0
PRODID:-//Metropolregion - ECPv6.15.13//NONSGML v1.0//EN
CALSCALE:GREGORIAN
METHOD:PUBLISH
X-ORIGINAL-URL:https://metropolregion.de
X-WR-CALDESC:Veranstaltungen für Metropolregion
REFRESH-INTERVAL;VALUE=DURATION:PT1H
X-Robots-Tag:noindex
X-PUBLISHED-TTL:PT1H
BEGIN:VTIMEZONE
TZID:Europe/Berlin
BEGIN:DAYLIGHT
TZOFFSETFROM:+0100
TZOFFSETTO:+0200
TZNAME:CEST
DTSTART:20240331T010000
END:DAYLIGHT
BEGIN:STANDARD
TZOFFSETFROM:+0200
TZOFFSETTO:+0100
TZNAME:CET
DTSTART:20241027T010000
END:STANDARD
BEGIN:DAYLIGHT
TZOFFSETFROM:+0100
TZOFFSETTO:+0200
TZNAME:CEST
DTSTART:20250330T010000
END:DAYLIGHT
BEGIN:STANDARD
TZOFFSETFROM:+0200
TZOFFSETTO:+0100
TZNAME:CET
DTSTART:20251026T010000
END:STANDARD
BEGIN:DAYLIGHT
TZOFFSETFROM:+0100
TZOFFSETTO:+0200
TZNAME:CEST
DTSTART:20260329T010000
END:DAYLIGHT
BEGIN:STANDARD
TZOFFSETFROM:+0200
TZOFFSETTO:+0100
TZNAME:CET
DTSTART:20261025T010000
END:STANDARD
END:VTIMEZONE
BEGIN:VEVENT
DTSTART;TZID=Europe/Berlin:20250514T090000
DTEND;TZID=Europe/Berlin:20250515T180000
DTSTAMP:20260425T131231
CREATED:20250325T123616Z
LAST-MODIFIED:20250513T122951Z
UID:213087-1747213200-1747332000@metropolregion.de
SUMMARY:Real Estate Arena 2025
DESCRIPTION:Die Real Estate Arena verbindet Messe und Konferenz und rückt die B- und C-Standorte in den Mittelpunkt. Vom 14. bis 15. Mai trifft sich die Real Estate-Branche in Hannover zum vierten Mal zum Netzwerken und fürs Business. Die zentralen Themen - von Nachhaltigkeit bis Digitalisierung - kommen auf die Bühne\, ganz nach dem Motto: mutig\, kontrovers\, nah dran. Zusätzlich findet 2025 die Hauptversammlung des Deutschen Städtetags auf der Immobilienmesse statt. \nAm Gemeinschaftsstand der Metropolregion präsentieren sich in 2025 folgende 13 Partner*innen in Halle 4\, Stand G56 auf dem Messegelände Hannover: \n- Braunschweig Zukunft GmbH\n- BRAWO RE Development Hannover GmbH\n- Stadt Celle\n- Wirtschaftsförderung Region Goslar GmbH & Co. KG\n- Gesellschaft für Wirtschaftsförderung und Stadtentwicklung Göttingen mbH\n- Wirtschaftsförderung der Stadt Hameln\n- Landkreis Hameln-Pyrmont\n- Wirtschaftsförderungsgesellschaft Hildesheim Region mbH\n- Köster GmbH\n- Niedersächsische Landesgesellschaft (NLG)\n- Wirtschaftsförderung der Stadt Salzgitter\n- SPIE\n- WMG Wolfsburg Wirtschaft und Marketing GmbH \n  \nUnser Rahmenprogramm auf der Real Estate Arena: \n  \nTransformation ist kein Klimathema – sie ist der neue Standortfaktor.\nWarum Kommunen jetzt entscheiden\, wer auf ihrer Fläche verdient – und wie sie selbst Teil der Wertschöpfung werden. \nAnja Floetenmeyer-Woltmann\, Strategin für gesellschaftliche Verständlichkeit und kommunale Transformation \n14. Mai 2025\, 12:00 - 13:30 Uhr \nRaum 00.151-153 im IC \n  \nFit-4-Förderung - Erfolgreich Finanzieren und Umsetzen\nVom einfachen Projekt bis zum Smart City-Reallabor \nChristian Mainka\, Manager und Business Developer bei der City & Bits GmbH \n15. Mai 2025\, 11:00 - 12:30 Uhr \nRaum 00.103-106 im IC
URL:https://metropolregion.de/veranstaltung/real-estate-arena-2025/
LOCATION:Messegelände Hannover\, Messegelände\, Hannover\, Niedersachsen\, 30521\, Deutschland
CATEGORIES:Empfohlen,Standortmarketing,Standortmarketing News
ATTACH;FMTTYPE=image/jpeg:https://metropolregion.de/wp-content/uploads/2025/02/REA-Website-Banner.jpg
END:VEVENT
END:VCALENDAR