BEGIN:VCALENDAR
VERSION:2.0
PRODID:-//Metropolregion - ECPv6.15.13//NONSGML v1.0//EN
CALSCALE:GREGORIAN
METHOD:PUBLISH
X-WR-CALNAME:Metropolregion
X-ORIGINAL-URL:https://metropolregion.de
X-WR-CALDESC:Veranstaltungen für Metropolregion
REFRESH-INTERVAL;VALUE=DURATION:PT1H
X-Robots-Tag:noindex
X-PUBLISHED-TTL:PT1H
BEGIN:VTIMEZONE
TZID:Europe/Berlin
BEGIN:DAYLIGHT
TZOFFSETFROM:+0100
TZOFFSETTO:+0200
TZNAME:CEST
DTSTART:20240331T010000
END:DAYLIGHT
BEGIN:STANDARD
TZOFFSETFROM:+0200
TZOFFSETTO:+0100
TZNAME:CET
DTSTART:20241027T010000
END:STANDARD
BEGIN:DAYLIGHT
TZOFFSETFROM:+0100
TZOFFSETTO:+0200
TZNAME:CEST
DTSTART:20250330T010000
END:DAYLIGHT
BEGIN:STANDARD
TZOFFSETFROM:+0200
TZOFFSETTO:+0100
TZNAME:CET
DTSTART:20251026T010000
END:STANDARD
BEGIN:DAYLIGHT
TZOFFSETFROM:+0100
TZOFFSETTO:+0200
TZNAME:CEST
DTSTART:20260329T010000
END:DAYLIGHT
BEGIN:STANDARD
TZOFFSETFROM:+0200
TZOFFSETTO:+0100
TZNAME:CET
DTSTART:20261025T010000
END:STANDARD
END:VTIMEZONE
BEGIN:VEVENT
DTSTART;TZID=Europe/Berlin:20250520T140000
DTEND;TZID=Europe/Berlin:20250520T180000
DTSTAMP:20260425T130922
CREATED:20250320T083422Z
LAST-MODIFIED:20250521T071251Z
UID:209550-1747749600-1747764000@metropolregion.de
SUMMARY:Gemeinsam wachsen: Kommunale Partnerschaften im Austausch
DESCRIPTION:Unser Workshop für Engagierte der deutsch-französischen Städtepartnerschaften fand am 20. Mai 2025 nachmittags in Hildesheim stattfinden! \nUnter dem Motto "Gemeinsam wachsen: Kommunale Partnerschaften im Austausch" stand der Nachmittag ganz im Zeichen der Vernetzung. \nAnkündigungstext: Möchten Sie weitere Verantwortliche für Partnerschaften in Ihrer Region kennenlernen? Gelungene Aktivitäten vorstellen und sich von anderen inspirieren lassen? Sind Sie daran interessiert\, sich über Herausforderungen in der Partnerschaft auszutauschen und neue Angebote zu entdecken?\nBringen Sie Ihre Erfahrungen und Themen mit und profitieren Sie von den Erfahrungen und Impulsen des Teams Kommunalpartnerschaften aus dem Deutsch-Französischen Institut (dfi). Gemeinsam bringen wir Partnerschaften weiter. \n\n\nDie Veranstaltung findet im PULS in Hildesheim (Angoulêmeplatz 2) von 14 Uhr bis 18 Uhr statt. \nProgramm: \n \n\n\nFür Rückfragen und weitere Informationen:\nVera Glaser\nvera.glaser@metropolregion.de\nTel: +49511.89 85 86-17\nMobil: 0177 2168568 \n\nNützliche Links für Engagierte der Städtepartnerschaften gibt es auf unserer Website Städtepartnerschaften.
URL:https://metropolregion.de/veranstaltung/vernetzungsworkshop-fuer-deutsch-franzoesische-staedtepartnerschaften-in-niedersachsen/
LOCATION:Puls Hildesheim\, Angoulêmeplatz 2\, Hildesheim\, 31134\, Deutschland
CATEGORIES:Deutsch-französische Zusammenarbeit,Europäische Zusammenarbeit
ATTACH;FMTTYPE=image/png:https://metropolregion.de/wp-content/uploads/2025/03/Workshop-20.Mai_.png
END:VEVENT
END:VCALENDAR