BEGIN:VCALENDAR
VERSION:2.0
PRODID:-//Metropolregion - ECPv6.15.13//NONSGML v1.0//EN
CALSCALE:GREGORIAN
METHOD:PUBLISH
X-ORIGINAL-URL:https://metropolregion.de
X-WR-CALDESC:Veranstaltungen für Metropolregion
REFRESH-INTERVAL;VALUE=DURATION:PT1H
X-Robots-Tag:noindex
X-PUBLISHED-TTL:PT1H
BEGIN:VTIMEZONE
TZID:Europe/Berlin
BEGIN:DAYLIGHT
TZOFFSETFROM:+0100
TZOFFSETTO:+0200
TZNAME:CEST
DTSTART:20240331T010000
END:DAYLIGHT
BEGIN:STANDARD
TZOFFSETFROM:+0200
TZOFFSETTO:+0100
TZNAME:CET
DTSTART:20241027T010000
END:STANDARD
BEGIN:DAYLIGHT
TZOFFSETFROM:+0100
TZOFFSETTO:+0200
TZNAME:CEST
DTSTART:20250330T010000
END:DAYLIGHT
BEGIN:STANDARD
TZOFFSETFROM:+0200
TZOFFSETTO:+0100
TZNAME:CET
DTSTART:20251026T010000
END:STANDARD
BEGIN:DAYLIGHT
TZOFFSETFROM:+0100
TZOFFSETTO:+0200
TZNAME:CEST
DTSTART:20260329T010000
END:DAYLIGHT
BEGIN:STANDARD
TZOFFSETFROM:+0200
TZOFFSETTO:+0100
TZNAME:CET
DTSTART:20261025T010000
END:STANDARD
END:VTIMEZONE
BEGIN:VEVENT
DTSTART;VALUE=DATE:20250531
DTEND;VALUE=DATE:20250602
DTSTAMP:20260425T142811
CREATED:20250310T141747Z
LAST-MODIFIED:20250519T075630Z
UID:208691-1748649600-1748822399@metropolregion.de
SUMMARY:KunstFestSpiele | Zirkustheater: Alles | Nichts - Modo Grosso
DESCRIPTION:Im Rahmen der KunstFestspiele Herrenhausen Mehr Informationen \nWie kann man etwas Flüchtiges wie die Zeit einfangen? Der Zirkuskünstler und Jongleur Loïc Faure versucht es. Er spielt nicht nur mit der Schwerkraft\, sondern auch mit der Zeit. Mal rast die Zeit\, mal dehnt sie sich\, mal scheint sie sogar stillzustehen. \nNatürlich braucht Loïc dazu Objekte. Er jongliert mit Stoffen und Steinen\, mit Magneten und Pendeln\, mit Fäden und Kugeln\, die höchst unwahrscheinliche Bewegungen machen. Aus einem Gefäß fließen Fäden wie Wasser\, und Ketten entwickeln ein Eigenleben. Manchmal scheint die Schwerkraft sogar aufgehoben. Faure gelingt so ein humorvolles Bühnen-Poem. \nDas Stück changiert zwischen Objekttheater und Neuem Zirkus und schickt die Zuschauer*innen in unerforschte Gebiete der Wahrnehmung: Physik wird Poesie. Die Kompanie Modo Grosso verbindet in ihren Stücken Objektmanipulation und Zirkusakrobatik mit einem Hauch Magie. Lassen Sie sich verzaubern! \nWeitere Informationen zu Modo Grosso\nAufführungen\nSa 31.05. um 14:00 & 17:00 Uhr\nSo 01.06. um 11:00 & 15:30 Uhr \nDauer 55 min\, keine Pause \nKonzeption Alexis Rouvre / Performance Loïc Faure / Künstlerische Beratung Jani Nuutinen / Komposition Loïc Bescond / Outside Eye Angela Malvasi / Technik Joachim Gacon-Douard / Technische Konzeption Hadrien Lefaure / Design Tribüne Jani Nuutinen / Szenografie Sylvain Formatche\, Alexis Rouvre / Administration Victoria Makosi oder Esther Defourny / Distribution Ay-Roop\, Anne-Claire Ronsin / Produktionsmanagement KunstFestSpiele Sarah Reichert\, Hannah Wörpel \nEine Produktion von Modo Grosso ASBL. \nKoproduktionen und Residenzen: Halles de Schaerbeek\, Transversales – scène conventionnée cirque Verdun\, Provinciaal Domein Dommelhof\, Le Sirque – Pôle National Cirque Nexon – Nouvelle-Aquitaine\, SurMars – Mons Arts de la Scène\, Maison des jonglages – scène conventionnée Jonglage(s)\, AY-ROOP – scène de territoire pour les arts de la piste\, Central. \nKünstlerresidenzen: Espace Périphérique\, La Fabrique de Théâtre\, Théâtre Marni\, Latitude 50 - Pôle des arts du cirque et de la rue\, Espace Catastrophe\, centre international de création des arts du cirque\, Maison de la Marionnette\, centre de la Marionnette de la Fédération Wallonie-Bruxelles\, Maison de la création de Bockstael\, CCBW - Centre Culturel du Brabant Wallon\, Le Tas de sable – Ches Panses Vertes\, Centre National de la Marionnette en préparation. \nGefördert durch Wallonie Bruxelles International\, Bourse Écriture en Campagne\, Latitude 50\, La Chaufferie-Acte1\, la SACD et la SSA\, Iportunus – Creative Europe Programme\, LookIN’OUT. \nUnterstützt durch Fédération Wallonie-Bruxelles: Service Général de la Création Artistique - Service des Arts Forain\, du Cirque et de la Rue.
URL:https://metropolregion.de/veranstaltung/zirkustheater-alles-nichts-modo-grosso/
LOCATION:Orangerie Herrenhausen\, Herrenhäuser Straße 3a\, Hannover\, Niedersachsen\, 30419\, Deutschland
CATEGORIES:Deutsch-französische Zusammenarbeit,Europäische Zusammenarbeit
ATTACH;FMTTYPE=image/jpeg:https://metropolregion.de/wp-content/uploads/2025/03/alles_nichts_modo_grosso_2_c_minh_phan_quaoc-scaled.jpg
END:VEVENT
END:VCALENDAR