BEGIN:VCALENDAR
VERSION:2.0
PRODID:-//Metropolregion - ECPv6.15.13//NONSGML v1.0//EN
CALSCALE:GREGORIAN
METHOD:PUBLISH
X-ORIGINAL-URL:https://metropolregion.de
X-WR-CALDESC:Veranstaltungen für Metropolregion
REFRESH-INTERVAL;VALUE=DURATION:PT1H
X-Robots-Tag:noindex
X-PUBLISHED-TTL:PT1H
BEGIN:VTIMEZONE
TZID:Europe/Berlin
BEGIN:DAYLIGHT
TZOFFSETFROM:+0100
TZOFFSETTO:+0200
TZNAME:CEST
DTSTART:20240331T010000
END:DAYLIGHT
BEGIN:STANDARD
TZOFFSETFROM:+0200
TZOFFSETTO:+0100
TZNAME:CET
DTSTART:20241027T010000
END:STANDARD
BEGIN:DAYLIGHT
TZOFFSETFROM:+0100
TZOFFSETTO:+0200
TZNAME:CEST
DTSTART:20250330T010000
END:DAYLIGHT
BEGIN:STANDARD
TZOFFSETFROM:+0200
TZOFFSETTO:+0100
TZNAME:CET
DTSTART:20251026T010000
END:STANDARD
BEGIN:DAYLIGHT
TZOFFSETFROM:+0100
TZOFFSETTO:+0200
TZNAME:CEST
DTSTART:20260329T010000
END:DAYLIGHT
BEGIN:STANDARD
TZOFFSETFROM:+0200
TZOFFSETTO:+0100
TZNAME:CET
DTSTART:20261025T010000
END:STANDARD
END:VTIMEZONE
BEGIN:VEVENT
DTSTART;TZID=Europe/Berlin:20250623T203000
DTEND;TZID=Europe/Berlin:20250623T220000
DTSTAMP:20260425T131049
CREATED:20250505T103429Z
LAST-MODIFIED:20250505T103429Z
UID:219797-1750710600-1750716000@metropolregion.de
SUMMARY:Ciné-Club | Les Barbares
DESCRIPTION:Eine wunderbar entlarvende Komödie über menschliche Unzulänglichkeiten und Vorurteile mit SANDRINE KIBERLAIN (Der kleine Nick\, Mit Siebzehn). Geschickt balanciert Regisseurin JULIE DELPY (Before Sunrise) dabei zwischen thematischer Ernsthaftigkeit und humoristischer Überzeichnung der liebenswert-schrulligen Figuren. Politische Inkorrektheit trifft auf übertriebene Willkommenskultur. \nIn der bretonischen Kleinstadt Paimpont ist die Welt noch in Ordnung: Die Grundschullehrerin weiß alles besser\, die Supermarktbesitzerin hat ein gehöriges Alkoholproblem\, der elsässische Klempner ist bretonischer als die Einheimischen und der Dorfpolizist könnte einfältiger und unmusikalischer kaum sein. Da trifft es sich gar nicht gut\, dass eine neue Familie frischen Wind in die Dorfgemeinschaft bringen soll. Zumal die Neuankömmlinge nicht wie erwartet aus der Ukraine\, sondern aus Syrien stammen und auch noch intelligent sind. Zudem wissen sie\, wie man wirklich leckeren Galettes-Teig macht. \nmit: Julie Delpy (2 Tage Paris)\, Sandrine Kiberlain\, Laurent Lafitte\, Ziad Bakri\, Jean-Charles Clichet u.a. \nRegie: Julie Delpy\nFrankreich 2024\, OmU (103 Min.) \nTrailer
URL:https://metropolregion.de/veranstaltung/cine-club-les-barbares/
LOCATION:Kino am Raschplatz\, Am Raschplatz 5\, Hannover\, 30161
CATEGORIES:Deutsch-französische Zusammenarbeit,Europäische Zusammenarbeit
END:VEVENT
END:VCALENDAR