BEGIN:VCALENDAR
VERSION:2.0
PRODID:-//Metropolregion - ECPv6.15.13//NONSGML v1.0//EN
CALSCALE:GREGORIAN
METHOD:PUBLISH
X-ORIGINAL-URL:https://metropolregion.de
X-WR-CALDESC:Veranstaltungen für Metropolregion
REFRESH-INTERVAL;VALUE=DURATION:PT1H
X-Robots-Tag:noindex
X-PUBLISHED-TTL:PT1H
BEGIN:VTIMEZONE
TZID:Europe/Berlin
BEGIN:DAYLIGHT
TZOFFSETFROM:+0100
TZOFFSETTO:+0200
TZNAME:CEST
DTSTART:20240331T010000
END:DAYLIGHT
BEGIN:STANDARD
TZOFFSETFROM:+0200
TZOFFSETTO:+0100
TZNAME:CET
DTSTART:20241027T010000
END:STANDARD
BEGIN:DAYLIGHT
TZOFFSETFROM:+0100
TZOFFSETTO:+0200
TZNAME:CEST
DTSTART:20250330T010000
END:DAYLIGHT
BEGIN:STANDARD
TZOFFSETFROM:+0200
TZOFFSETTO:+0100
TZNAME:CET
DTSTART:20251026T010000
END:STANDARD
BEGIN:DAYLIGHT
TZOFFSETFROM:+0100
TZOFFSETTO:+0200
TZNAME:CEST
DTSTART:20260329T010000
END:DAYLIGHT
BEGIN:STANDARD
TZOFFSETFROM:+0200
TZOFFSETTO:+0100
TZNAME:CET
DTSTART:20261025T010000
END:STANDARD
END:VTIMEZONE
BEGIN:VEVENT
DTSTART;TZID=Europe/Berlin:20250707T203000
DTEND;TZID=Europe/Berlin:20250707T220000
DTSTAMP:20260423T193350
CREATED:20250407T100007Z
LAST-MODIFIED:20250605T070746Z
UID:214648-1751920200-1751925600@metropolregion.de
SUMMARY:Ciné-Club | Die Bonnards - Pierre et Marthe
DESCRIPTION:Vorpremiere! \nVan Gogh und Gauguin waren nicht nur arm und stilbildend\, sie wurden zu Vorbildern für viele andere zeitgenössische Kunstschaffende\, die im Gegensatz zu ihnen manchmal sehr wohl sehr erfolgreich waren.\nEiner von ihnen war Pierre Bonnard\, ein französischer Maler\, der von seiner Kunst nicht nur leben konnte\, sondern damit richtig wohlhabend wurde. Dies gelang ihm\, weil er sich nicht auf die Malerei beschränkte\, sondern auch mit Plakaten\, Buchillustrationen und Gebrauchsgrafik Geld verdiente\, was ihn zusätzlich bekannt machte.\nDas Biopic über Pierre Bonnard und seine Muse\, Lebensgefährtin und spätere Ehefrau Marthe de Meligny erzählt von ihrem gemeinsamen\, fast 50 Jahre dauernden Leben.\nEine Liebesgeschichte und gleichzeitig die Künstlerbiografie zweier begabter Menschen\, denn auch Marthe malte in ihren späteren Jahren. \nmit: Cécile de France\, Vincent Macaigne\, Stacy Martin \n"Der Film wird Kunstliebhaber in Staunen versetzen"-ABUS DE CINÉ \nR: Martin Provost\nFrankreich 2023\, OmU (122 Min.)\, FSK: 12 J.
URL:https://metropolregion.de/veranstaltung/cine-club-die-bonnards-pierre-et-marthe/
LOCATION:Kino am Raschplatz\, Am Raschplatz 5\, Hannover\, 30161
CATEGORIES:Deutsch-französische Zusammenarbeit,Europäische Zusammenarbeit
END:VEVENT
END:VCALENDAR