BEGIN:VCALENDAR
VERSION:2.0
PRODID:-//Metropolregion - ECPv6.15.13//NONSGML v1.0//EN
CALSCALE:GREGORIAN
METHOD:PUBLISH
X-ORIGINAL-URL:https://metropolregion.de
X-WR-CALDESC:Veranstaltungen für Metropolregion
REFRESH-INTERVAL;VALUE=DURATION:PT1H
X-Robots-Tag:noindex
X-PUBLISHED-TTL:PT1H
BEGIN:VTIMEZONE
TZID:Europe/Berlin
BEGIN:DAYLIGHT
TZOFFSETFROM:+0100
TZOFFSETTO:+0200
TZNAME:CEST
DTSTART:20240331T010000
END:DAYLIGHT
BEGIN:STANDARD
TZOFFSETFROM:+0200
TZOFFSETTO:+0100
TZNAME:CET
DTSTART:20241027T010000
END:STANDARD
BEGIN:DAYLIGHT
TZOFFSETFROM:+0100
TZOFFSETTO:+0200
TZNAME:CEST
DTSTART:20250330T010000
END:DAYLIGHT
BEGIN:STANDARD
TZOFFSETFROM:+0200
TZOFFSETTO:+0100
TZNAME:CET
DTSTART:20251026T010000
END:STANDARD
BEGIN:DAYLIGHT
TZOFFSETFROM:+0100
TZOFFSETTO:+0200
TZNAME:CEST
DTSTART:20260329T010000
END:DAYLIGHT
BEGIN:STANDARD
TZOFFSETFROM:+0200
TZOFFSETTO:+0100
TZNAME:CET
DTSTART:20261025T010000
END:STANDARD
END:VTIMEZONE
BEGIN:VEVENT
DTSTART;TZID=Europe/Berlin:20250710T203000
DTEND;TZID=Europe/Berlin:20250710T220000
DTSTAMP:20260423T193329
CREATED:20250526T083321Z
LAST-MODIFIED:20250528T074724Z
UID:223574-1752179400-1752184800@metropolregion.de
SUMMARY:Cinéma | Sunny's time now
DESCRIPTION:SUNNY'S TIME NOW ist eine Hommage an einen kompromisslosen Künstler: den amerikanischen Avantgarde-Drummer Sunny Murray (1936–2017). Murray war eine der einflussreichsten Figuren der historischen Free-Jazz-Szene. Von ihm hieß es\, er sei der erste Schlagzeuger gewesen\, der die Relativitätstheorie musikalisch umgesetzt habe. Anhand von Interviews mit Zeitzeugen und mittels umfang reichem Konzertmaterial liefert der Film einen europäischen Blickwinkel auf die komplexen Beziehungen zwischen der radikal libertären Musikbewegung und dem politischen Klima ihrer Entstehungszeit – einer Ära\, deren revolutionärer Spirit noch heute nachklingt. SUNNY'S TIME NOW befasst sich auch mit der klandestinen Gemeinschaft von Liebhabern\, die weiterhin die Götter ihrer musikalischen Jugend verehren und deren entschlossene Unterstützung es der freien improvisierten Musik – Murray war einer ihrer letzten Mohikaner – ermöglicht hat\, weiterzuleben. \nRegie: Antoine Prum\nLuxemburg/Frankreich 2008 (108 min.)\nengl./franz./dt.O.m.engl.UT \nTrailer
URL:https://metropolregion.de/veranstaltung/cinema-sunnys-time-now/
LOCATION:KINO IM SPRENGEL\, Klaus-Müller-Kilian-Weg 1\, Hannover\, 30167
CATEGORIES:Deutsch-französische Zusammenarbeit,Europäische Zusammenarbeit
END:VEVENT
END:VCALENDAR