BEGIN:VCALENDAR
VERSION:2.0
PRODID:-//Metropolregion - ECPv6.15.13//NONSGML v1.0//EN
CALSCALE:GREGORIAN
METHOD:PUBLISH
X-WR-CALNAME:Metropolregion
X-ORIGINAL-URL:https://metropolregion.de
X-WR-CALDESC:Veranstaltungen für Metropolregion
REFRESH-INTERVAL;VALUE=DURATION:PT1H
X-Robots-Tag:noindex
X-PUBLISHED-TTL:PT1H
BEGIN:VTIMEZONE
TZID:Europe/Berlin
BEGIN:DAYLIGHT
TZOFFSETFROM:+0100
TZOFFSETTO:+0200
TZNAME:CEST
DTSTART:20240331T010000
END:DAYLIGHT
BEGIN:STANDARD
TZOFFSETFROM:+0200
TZOFFSETTO:+0100
TZNAME:CET
DTSTART:20241027T010000
END:STANDARD
BEGIN:DAYLIGHT
TZOFFSETFROM:+0100
TZOFFSETTO:+0200
TZNAME:CEST
DTSTART:20250330T010000
END:DAYLIGHT
BEGIN:STANDARD
TZOFFSETFROM:+0200
TZOFFSETTO:+0100
TZNAME:CET
DTSTART:20251026T010000
END:STANDARD
BEGIN:DAYLIGHT
TZOFFSETFROM:+0100
TZOFFSETTO:+0200
TZNAME:CEST
DTSTART:20260329T010000
END:DAYLIGHT
BEGIN:STANDARD
TZOFFSETFROM:+0200
TZOFFSETTO:+0100
TZNAME:CET
DTSTART:20261025T010000
END:STANDARD
END:VTIMEZONE
BEGIN:VEVENT
DTSTART;TZID=Europe/Berlin:20250714T203000
DTEND;TZID=Europe/Berlin:20250714T230000
DTSTAMP:20260423T193155
CREATED:20250602T113236Z
LAST-MODIFIED:20250602T113236Z
UID:225043-1752525000-1752534000@metropolregion.de
SUMMARY:Ciné-Club | Le Comte de Monte-Cristo
DESCRIPTION:Nominiert für 14 CÉSARS! \nMarseille 1815. Die großen Träume des jungen Edmond Dantès (Pierre Niney) stehen kurz vor ihrer Erfüllung: Er wird zum Schiffskapitän befördert und kann endlich Mercédès\, die Liebe seines Lebens\, heiraten. Doch Erfolg schürt Neid und Dantès wird von Rivalen bezichtigt\, Mitglied einer bonapartistischen Verschwörung zu sein. Ohne Gerichtsverfahren wird er zur Haft im Inselgefängnis Château d’If verurteilt und eingekerkert. Erst nach vierzehn Jahren gelingt Dantès eine abenteuerliche Flucht\, auf der er nicht nur seine Freiheit wiedergewinnt\, sondern auch in den Besitz des legendären Schatzes von Monte Christo gelangt. Nun soll ihm ein ungewöhnlicher Plan dazu verhelfen\, seinen Durst nach Rache an den Verrätern zu stillen … \nmit: Pierre Niney\, Bastien Bouillon\, Anaïs Demoustier \nRegie: Matthieu Delaporte\, Alexandre de La Patellière\nFrankreich 2024 (168 Min)\, FSK: 12 J.\nOmU \nTrailer
URL:https://metropolregion.de/veranstaltung/cine-club-le-comte-de-monte-cristo/
LOCATION:Kino am Raschplatz\, Am Raschplatz 5\, Hannover\, 30161
CATEGORIES:Deutsch-französische Zusammenarbeit,Europäische Zusammenarbeit
END:VEVENT
END:VCALENDAR