BEGIN:VCALENDAR
VERSION:2.0
PRODID:-//Metropolregion - ECPv6.15.13//NONSGML v1.0//EN
CALSCALE:GREGORIAN
METHOD:PUBLISH
X-ORIGINAL-URL:https://metropolregion.de
X-WR-CALDESC:Veranstaltungen für Metropolregion
REFRESH-INTERVAL;VALUE=DURATION:PT1H
X-Robots-Tag:noindex
X-PUBLISHED-TTL:PT1H
BEGIN:VTIMEZONE
TZID:Europe/Berlin
BEGIN:DAYLIGHT
TZOFFSETFROM:+0100
TZOFFSETTO:+0200
TZNAME:CEST
DTSTART:20240331T010000
END:DAYLIGHT
BEGIN:STANDARD
TZOFFSETFROM:+0200
TZOFFSETTO:+0100
TZNAME:CET
DTSTART:20241027T010000
END:STANDARD
BEGIN:DAYLIGHT
TZOFFSETFROM:+0100
TZOFFSETTO:+0200
TZNAME:CEST
DTSTART:20250330T010000
END:DAYLIGHT
BEGIN:STANDARD
TZOFFSETFROM:+0200
TZOFFSETTO:+0100
TZNAME:CET
DTSTART:20251026T010000
END:STANDARD
BEGIN:DAYLIGHT
TZOFFSETFROM:+0100
TZOFFSETTO:+0200
TZNAME:CEST
DTSTART:20260329T010000
END:DAYLIGHT
BEGIN:STANDARD
TZOFFSETFROM:+0200
TZOFFSETTO:+0100
TZNAME:CET
DTSTART:20261025T010000
END:STANDARD
END:VTIMEZONE
BEGIN:VEVENT
DTSTART;TZID=Europe/Berlin:20250716T201500
DTEND;TZID=Europe/Berlin:20250716T214500
DTSTAMP:20260423T193329
CREATED:20250310T151449Z
LAST-MODIFIED:20250610T083807Z
UID:208813-1752696900-1752702300@metropolregion.de
SUMMARY:Ciné-club francophone | Les 2 Alfred
DESCRIPTION:Dem arbeitslosen Alexandre bleiben zwei Monate\, um seiner Frau zu beweisen\, dass er sich um seine beiden kleinen Kinder kümmern und finanziell unabhängig sein kann. Das Problem: Das freundliche Start-up-Unternehmen The Box\, das ihn auf Probe einstellen will\, hat ein Dogma: „Keine Kinder!“\, und Séverine\, seine zukünftige Vorgesetzte\, ist eine „Killerin“ mit eruptivem Charakter. Um die Stelle zu bekommen\, muss Alexandre also lügen... \nRegie: Bruno Podalydès\nFrankreich 2020\, OmUeng (92 Min) \nTrailer \nIm Rahmen des Ciné-club francophone zeigt das Sprachenzentrum der TU Braunschweig im Sommersemester in Zusammenarbeit mit Antenne Métropole (Hannover) und dem Institut français Paris vier ausgewählte Filme in der französischen Originalfassung mit deutschen oder englischen Untertiteln.\nDer Ciné-club francophone ist für alle Niveaustufen geeignet (A1-C2) sowie offen und kostenfrei für alle Interessierten (auch Nicht-Studierende). \nEine Anmeldung zu den Veranstaltungen ist erforderlich!\nFür Externe per Mail an i.laval-speier(at)tu-braunschweig.de\nund über TUconnect bzw. StudIP für TU Studierende\, HBK-Studierende und TU-Beschäftigte
URL:https://metropolregion.de/veranstaltung/cine-cub-francophone-les-2-alfred/
LOCATION:TU Braunschweig - International House\, Bültenweg 74/75\, Braunschweig\, 38106
CATEGORIES:Deutsch-französische Zusammenarbeit,Europäische Zusammenarbeit
END:VEVENT
END:VCALENDAR