BEGIN:VCALENDAR
VERSION:2.0
PRODID:-//Metropolregion - ECPv6.15.13//NONSGML v1.0//EN
CALSCALE:GREGORIAN
METHOD:PUBLISH
X-WR-CALNAME:Metropolregion
X-ORIGINAL-URL:https://metropolregion.de
X-WR-CALDESC:Veranstaltungen für Metropolregion
REFRESH-INTERVAL;VALUE=DURATION:PT1H
X-Robots-Tag:noindex
X-PUBLISHED-TTL:PT1H
BEGIN:VTIMEZONE
TZID:Europe/Berlin
BEGIN:DAYLIGHT
TZOFFSETFROM:+0100
TZOFFSETTO:+0200
TZNAME:CEST
DTSTART:20240331T010000
END:DAYLIGHT
BEGIN:STANDARD
TZOFFSETFROM:+0200
TZOFFSETTO:+0100
TZNAME:CET
DTSTART:20241027T010000
END:STANDARD
BEGIN:DAYLIGHT
TZOFFSETFROM:+0100
TZOFFSETTO:+0200
TZNAME:CEST
DTSTART:20250330T010000
END:DAYLIGHT
BEGIN:STANDARD
TZOFFSETFROM:+0200
TZOFFSETTO:+0100
TZNAME:CET
DTSTART:20251026T010000
END:STANDARD
BEGIN:DAYLIGHT
TZOFFSETFROM:+0100
TZOFFSETTO:+0200
TZNAME:CEST
DTSTART:20260329T010000
END:DAYLIGHT
BEGIN:STANDARD
TZOFFSETFROM:+0200
TZOFFSETTO:+0100
TZNAME:CET
DTSTART:20261025T010000
END:STANDARD
END:VTIMEZONE
BEGIN:VEVENT
DTSTART;TZID=Europe/Berlin:20250811T203000
DTEND;TZID=Europe/Berlin:20250811T223000
DTSTAMP:20260423T181006
CREATED:20250605T073247Z
LAST-MODIFIED:20250611T072319Z
UID:227330-1754944200-1754951400@metropolregion.de
SUMMARY:Ciné-Club | La venue de l'avenir
DESCRIPTION:Im Jahr 2025 erfahren 30 entfernte Verwandte\, dass sie ein seit Jahren leerstehendes Haus in der Normandie erben werden. Vier Cousinen und Cousins werden beauftragt\, das Haus zu inspizieren. Sie stossen auf die Spuren der geheimnisvollen Adèle. Durch gemeinsame Aufarbeitung erfahren sie mehr über ihre Ahne\, die mit 20 Jahren ihre Heimat verliess\, um in Paris nach ihrer Mutter zu suchen. 1895 in der Hauptstadt angekommen\, erlebt Adèle den Fin de Siècle inmitten einer industriellen und kulturellen Revolution. Durch ihre introspektive Reise in ihrer Genealogie entdecken die vier Nachfahren einen besonderen Moment am Ende des 19. Jahrhunderts\, geprägt durch den Impressionismus und die Fotografie. \nmit: Cécile De France\, Vassili Schneider\, Vincent Perez\, Vincent Macaigne\, Sara Giraudeau \nRegie: Cédric Klapisch\nFrankreich 2025\, OmU (124 Min.)\, FSK: 12 J. \nTrailer 
URL:https://metropolregion.de/veranstaltung/cine-club-la-venue-de-lavenir-tbc/
LOCATION:Kino am Raschplatz\, Am Raschplatz 5\, Hannover\, 30161
CATEGORIES:Deutsch-französische Zusammenarbeit,Europäische Zusammenarbeit
END:VEVENT
END:VCALENDAR