BEGIN:VCALENDAR
VERSION:2.0
PRODID:-//Metropolregion - ECPv6.15.13//NONSGML v1.0//EN
CALSCALE:GREGORIAN
METHOD:PUBLISH
X-WR-CALNAME:Metropolregion
X-ORIGINAL-URL:https://metropolregion.de
X-WR-CALDESC:Veranstaltungen für Metropolregion
REFRESH-INTERVAL;VALUE=DURATION:PT1H
X-Robots-Tag:noindex
X-PUBLISHED-TTL:PT1H
BEGIN:VTIMEZONE
TZID:Europe/Berlin
BEGIN:DAYLIGHT
TZOFFSETFROM:+0100
TZOFFSETTO:+0200
TZNAME:CEST
DTSTART:20230326T010000
END:DAYLIGHT
BEGIN:STANDARD
TZOFFSETFROM:+0200
TZOFFSETTO:+0100
TZNAME:CET
DTSTART:20231029T010000
END:STANDARD
BEGIN:DAYLIGHT
TZOFFSETFROM:+0100
TZOFFSETTO:+0200
TZNAME:CEST
DTSTART:20240331T010000
END:DAYLIGHT
BEGIN:STANDARD
TZOFFSETFROM:+0200
TZOFFSETTO:+0100
TZNAME:CET
DTSTART:20241027T010000
END:STANDARD
BEGIN:DAYLIGHT
TZOFFSETFROM:+0100
TZOFFSETTO:+0200
TZNAME:CEST
DTSTART:20250330T010000
END:DAYLIGHT
BEGIN:STANDARD
TZOFFSETFROM:+0200
TZOFFSETTO:+0100
TZNAME:CET
DTSTART:20251026T010000
END:STANDARD
END:VTIMEZONE
BEGIN:VEVENT
DTSTART;VALUE=DATE:20241111
DTEND;VALUE=DATE:20241118
DTSTAMP:20260425T195200
CREATED:20241023T104336Z
LAST-MODIFIED:20250210T122344Z
UID:185379-1731283200-1731887999@metropolregion.de
SUMMARY:Internationales FilmFest Braunschweig
DESCRIPTION:Auch dieses Jahr zeigt das FilmFest Braunschweig wieder einige Filme auf französisch. (Mehr Infos und das gesamte Programm gibt es unter https://www.filmfest-braunschweig.de/) \nWir haben eine Liste der französischsprachigen Filme für euch: \n\nAMAL\nR: Jawad Rhalib\, Belgien 2023\, 111 min\, OmU\, ab 16 Jahren\nZeiten: 14.11.2024 um 15h30 und 16.11.2024 um 20h30 Direkt zur Veranstaltung\n\nAmal ist Lehrerin an einem Gymnasium in Brüssel. Unermüdlich ermutigt sie ihre Schüler:innen\, sich frei zu äußern und einander zu akzeptieren. Mit ihren mutigen Lehrmethoden und ihrem Enthusiasmus bringt sie aber die Leben ihrer Schüler:innen durcheinander. Einige sind empört\, als sie Monia unterstützt\, die verdächtigt wird\, lesbisch zu sein. Dieses spannende Drama\, in dem es um Mobbing in der Schule\, Homosexualität und Religion geht\, spielt in einem beängstigenden Klima.\nTrailer \n\nLA PAMPA (BLOCK PASS)\nR: Antoine Chevrollier\, Frankreich 2024\, 105 min\, OmU\, ab 16 Jahren\nZeiten: 14.11.2024 um 20h45 ; 15.11.2024 um 15h15 und 16.11.2024 um 13h00 Direkt zur Veranstaltung\n\nDie Jugendlichen Willy und Jojo sind beste Freunde; gegen die Langeweile pflegen sie ihre gemeinsame Leidenschaft für das Motocross. Jojo trainiert hart für die Meisterschaft\, Willy hat den Tod des verstorbenen Vaters noch nicht überwunden. Eines Abends entdeckt er Jojos Geheimnis\, was bei ihm gut aufgehoben ist\, ihm jedoch in der Kleinstadt an der Loire zum Verhängnis wird. Ein Film über tiefe Freundschaft\, Trauer\, Wut und Homophobie im Umfeld des männlich dominierten Motocrosssports sowie die Suche nach dem eigenen Weg. Dem Regisseur\, der selbst aus dieser Gegend kommt\, ist mit seinen begabten Hauptdarstellern ein starker Debütfilm gelungen\, der dieses Jahr in Cannes lief und vom Jerusalem Film Festival als bestes internationales Debüt ausgezeichnet wurde.\nTrailer \n\nLA RÉCRÉATION DE JUILLET (ETERNAL PLAYGROUND)\nR: Pablo Cotten und Joseph Rozé\, Frankreich 2024\, 80 min\, OmU\, ab 12 Jahren\nZeiten: 13.11.2024 um 20h45 ; 15.11.2024 um 18h30 und 16.11.2024 um 15h45 Direkt zur Veranstaltung\n\nNach dem Tod seiner Zwillingsschwester bringt Gaspard\, ein 25-jähriger Musiklehrer\, mitten in den Sommerferien seine fünf ehemaligen besten Freund:innen in der verlassenen Schule seiner Kindheit zusammen. An diesem Ort voller Erinnerungen werden sie sich wieder näherkommen und untereinander helfen\, obwohl die Geheimnisse nicht mehr lange gehütet werden können... Den beiden jungen Regisseuren ist ein wunderbarer Ensemblefilm gelungen\, der voller Ungehorsam\, Zauber\, Freiheit und Hoffnung ist. Ihr Langfilmdebüt mit beeindruckendem Soundtrack von Kids Return und Mika lief 2024 auf dem Filmfestival in Tribeca.\nTrailer \n\nLANGUE ÉTRANGÈRE\nR: Claire Burger\, FR/DE/Belgien 2024\, 105 min\, OmU\nZeiten: 15.11.24 um 16h00 Direkt zur Veranstaltung\n\nDie französische Schülerin Fanny aus Straßburg ist 17 Jahre alt und reist für einen Sprachaufenthalt nach Leipzig\, wo sie ihre selbstbewusste Austauschpartnerin Lena kennenlernt. Die schüchterne Fanny wird unfreiwillig in deren Familienprobleme hineingezogen\, denn die Mutter (Nina Hoss) versucht gerade\, ihre unglückliche Trennung zu bewältigen. Für die beiden Austauschschülerinnen beginnt eine emotionale Reise\, die von Sprachbarrieren und politische Spannungen geprägt ist\, aber echte Verbindung geht weit über Worte hinaus… Gelungenes Porträt der heutigen europäischen Jugend\, die gleichzeitig ängstlich und politisch\, aber auch sensibel und stark ist.\nTrailer \n\nLOW-TECH\nR: Adrien Bellay\, Frankreich 2023\, 93 min\, OmU\nZeiten: 13.11.24 um 20h30 Direkt zur Veranstaltung\n\nGetrieben von der permanenten Befriedigung der Lust auf neue Gegenstände ist nahezu jeder von uns umgeben von technischen Produkten\, deren geplante Obsoleszenz zum regelmäßigen Nachkaufen nötigt. Am Beispiel französischer Initiativen zeigt dieser Film\, dass weniger auch mehr sein kann\, wie man mit selbst gebauten Windkraftanlagen\, mehr Mechanik und weniger modernem Schnickschnack sein Leben vielleicht sogar erfüllter bestreiten kann. LOW-TECH zeigt einfache Lösungen und kollektive Arbeit an alternativen Konstruktionen. Die Dokumentation bietet kein Patentrezept für jede Konsumentscheidung\, jedoch geben die vorbildlichen Akteur:innen visionäre Denkanstöße\, die zum Umdenken inspirieren.\nTrailer \n\nPENDANT CE TEMPS SUR TERRE (MEANWHILE ON EARTH)\nR: Jérémy Clapin\, Frankreich 2024\, 89 min\, OmengU\, ab 16 Jahren\nZeiten: 14.11.2024 um 20h45 ; 16.11.2024 um 15h30 und 17.11.2024 um 11h30 Direkt zur Veranstaltung\n\nElsas Bruder ist vor drei Jahren während einer Weltraummission als Astronaut verschwunden. Darunter leidet die 23-Jährige sehr. Eigentlich wollte sie Comicautorin mit ihrem eigenen Atelier werden\, aber nun arbeitet sie zur Überbrückung als Altenpflegerin. Alles ändert sich\, als sie von Außerirdischen kontaktiert wird. Es gibt einen schrecklichen Preis zu zahlen\, um den Bruder wiederzusehen…\nTrailer \n\nLES FEMMES AU BALCON (THE BALCONETTES)\nR: Noémie Merlant\, Frankreich 2024\, 104 min\, OmU\, ab 16 Jahren\nZeiten: 12.11.2024 um 14h00 und 16.11.2024 um 22h45 Direkt zur Veranstaltung\n\nEine sommerliche Hitzewelle bringt Marseille zum Kochen. Drei junge Freundinnen mischen sich von ihrem Balkon aus vergnügt in das Leben ihrer Nachbar:innen ein. Bis ein nächtlicher Drink in einer blutigen Angelegenheit endet. Dieser freche und provokante Ausflug ins Genrekino feierte seine Weltpremiere beim Filmfestival in Cannes 2024. Die als Schauspielerin bekannte Noémie Merlant (u.a. PORTRÄT EINER JUNGEN FRAU IN FLAMMEN) liefert mit THE BALCONETTES ihren zweiten Langspielfilm als Regisseurin. Ein feministisches „Knall-Bonbon“\, bei dem sie das Drehbuch in Zusammenarbeit mit Céline Sciamma entwickelte. Eine „[…] schweißtreibende Mittsommer #MeToo Geistergeschichte.“ (Variety) \n\nVAMPIRE HUMANISTE CHERCHE SUICIDAIRE CONSENTANT (HUMANIST VAMPIRE SEEKING CONSENTING SUICIDAL PERSON)\nR: Ariane Louis-Seize\, Québec 2023\, 92 min\, OmU\, ab 16 Jahren\nZeiten: 12.11.2024 um 22h45 und 14.11.2024 um 13h30 Direkt zur Veranstaltung\n\nDie junge Vampirin Sasha unterscheidet sich stark von ihrer Familie. Während diese ohne Bedenken Menschen tötet\, möchte Sasha niemandem schaden. Doch was\, wenn nun ein lebensmüder Junge auftaucht\, der beschlossen hat\, seinem Leben ein Ende zu setzen? Dessen Plan: Sich von Sasha töten lassen\, um ihr zu helfen und sein eigenes Leid zu beenden. Doch eine unerwartete Freundschaft durchkreuzt jenen Plan und lässt sie ihre Perspektiven von Leben und Tod überdenken. Bei den Filmfestspielen in Venedig gewann Ariane Louis-Seize mit ihrer schwarzen Komödie den GDA Director’s Award. Ihr Spielfilmregiedebüt präsentiert eine Mischung aus düsterem Humor und tiefgründiger Reflexion über den Wert des Lebens.\nTrailer
URL:https://metropolregion.de/veranstaltung/internationales-filmfest-braunschweig/
CATEGORIES:Deutsch-französische Zusammenarbeit,Standortmarketing
ATTACH;FMTTYPE=image/jpeg:https://metropolregion.de/wp-content/uploads/2024/10/BIFF_logo_digital_yellow_on_black.jpg
END:VEVENT
BEGIN:VEVENT
DTSTART;TZID=Europe/Berlin:20241112T190000
DTEND;TZID=Europe/Berlin:20241112T210000
DTSTAMP:20260425T195200
CREATED:20241104T125150Z
LAST-MODIFIED:20241104T125150Z
UID:186779-1731438000-1731445200@metropolregion.de
SUMMARY:Kino und Konzert | Django
DESCRIPTION:Im Frankreich des Jahres 1943 ist Django Reinhardt (Reda Kateb) einer der beliebtesten Entertainer und Musiker\, jeden Abend spielt er vor ausverkauftem Haus. Mit seinem lebhaften Gypsy-Swing ist der Jazzgitarrist so erfolgreich\, dass sich selbst die deutschen Besatzer davon anstecken lassen\, die Angehörige der Sinti wie ihn sonst gnadenlos verfolgen und ermorden. Django jedoch kann sich vorerst in Sicherheit wiegen – bis er sich weigert\, in Deutschland auf Tournee zu gehen\, wie es die Nazis von ihm verlangen. So ist er gezwungen\, aus Paris zu fliehen. \nR: E. Comar\nF\, 2017\, 117 Min.\nengl. OmU \nVorab gibt es ein Konzert vom Anton Holovinskyi Trio:\nAnton Holovinskyi- g\nLudwig Berner - k bass\nBalz Muheim - drums \nMehr Infos und Tickets \nTrailer
URL:https://metropolregion.de/veranstaltung/kino-und-konzert-django/
LOCATION:Kino im Künstlerhaus\, Sophienstrasse 2\, Hannover\, 30159
CATEGORIES:Deutsch-französische Zusammenarbeit,Standortmarketing
END:VEVENT
BEGIN:VEVENT
DTSTART;TZID=Europe/Berlin:20241113T201500
DTEND;TZID=Europe/Berlin:20241113T220000
DTSTAMP:20260425T195200
CREATED:20241016T070311Z
LAST-MODIFIED:20241016T072053Z
UID:184401-1731528900-1731535200@metropolregion.de
SUMMARY:Ciné-Club Francophone | Revoir Paris
DESCRIPTION:In Paris gerät Mia (Virginie Efira) in einen Anschlag auf eine Brasserie. Drei Monate später hat sie es immer noch nicht geschafft\, ihr Leben wieder in den Griff zu bekommen. Sie erinnert sich nur bruchstückhaft an das Ereignis und beschließt\, in ihrem Gedächtnis zu forschen\, um den Weg zu einem möglichen Glück zu finden. \nWarnung: Einige Szenen\, Aussagen oder Bilder können emotional belastend sein und die Sensibilität der Zuschauer beeinträchtigen. \nR: Alice Winocour\nF\, 2022\, 105 Min\nOmUeng+frz \nDie Reihe „Ciné-club francophone“ vom Sprachbereich Französisch ist für alle Sprachstufen (A1-C2) und für alle Interessentinnen und Interessenten (Studierende\, Beschäftigte sowie Externe) gedacht\, die die französische Sprache und Kultur auf diese informelle Weise näher kennen wollen \nAnmeldungen: In Aura unter „Interkulturelles/Workshops und Events“:\nKostenfreie Anmeldung \nTrailer
URL:https://metropolregion.de/veranstaltung/cine-club-francophone-revoir-paris/
LOCATION:TU Braunschweig - International House\, Bültenweg 74/75\, Braunschweig\, 38106
CATEGORIES:Deutsch-französische Zusammenarbeit,Standortmarketing
END:VEVENT
BEGIN:VEVENT
DTSTART;TZID=Europe/Berlin:20241116T200000
DTEND;TZID=Europe/Berlin:20241116T220000
DTSTAMP:20260425T195200
CREATED:20241009T124017Z
LAST-MODIFIED:20241009T124017Z
UID:183626-1731787200-1731794400@metropolregion.de
SUMMARY:KONZERT | Marion & Sobo Band
DESCRIPTION:Marion & Sobo Band kreiert ihren eigenen modernen Stil aus vokalem Gypsy Jazz\, globaler Musik und Chanson. Das Herz der internationalen Band sind die franko-amerikanische Sängerin Marion Lenfant-Preus und der polnische Gitarrist Alexander Sobocinski\, genannt Sobo. Sie verbrachte ihre Kindheit und Jugend in Frankreich\, er stammt aus Polen. Sie singen und spielen mit viel Charme\, Humor\, Leichtigkeit und Spielfreude. \nDem Publikum präsentiert die Band an diesem Abend ihr französisches Programm. Marion singt auf Französisch sowohl Eigenkompositionen als auch Chansons von Edith Piaf bis Zaz\, über Nougaro und Henri Salvador.\nMarion Lenfant-Preus\, Gesang und Gitarre / Alexander Sobocinski\, Gitarre / Stefan Berger\, Kontrabass \nAnmeldung über die Website der DFG Hannover \nEintritt: 28 Euro / Für Mitglieder\, Studierende: 20 Euro
URL:https://metropolregion.de/veranstaltung/konzert-marion-sobo-band/
LOCATION:Theater in der List Hannover\, Spichernstr. 13\, Hannover\, 30161
CATEGORIES:Deutsch-französische Zusammenarbeit,Standortmarketing
ATTACH;FMTTYPE=image/jpeg:https://metropolregion.de/wp-content/uploads/2024/10/Screenshot_Plakat_MarionSoboBand_Trio-e1728476328929.jpg
END:VEVENT
BEGIN:VEVENT
DTSTART;TZID=Europe/Berlin:20241118T204500
DTEND;TZID=Europe/Berlin:20241118T230000
DTSTAMP:20260425T195200
CREATED:20241010T135724Z
LAST-MODIFIED:20250210T122335Z
UID:183703-1731962700-1731970800@metropolregion.de
SUMMARY:Kino | Emilia Perez
DESCRIPTION:Der letzte Film von Jacques Audiard als Vorpremiere! \nMexiko in der Gegenwart: Die überqualifizierte und dennoch ausgebeutete Anwältin Rita (Zoe Saldana) vergeudet ihre Talente\, indem sie für eine große Kanzlei arbeitet\, die viel besser darin ist\, kriminellen Müll zu beschönigen\, als der Gerechtigkeit zu dienen. Kriminelle aller Couleur\, von Drogendealern über Mörder bis zu Kartellbossen\, setzen deshalb auf die Fähigkeiten der Kanzlei und Rita. Eines Tages bietet sich ihr schließlich ein unerwarteter Ausweg – ein Angebot\, das sie einfach nicht ablehnen kann: Sie soll dem gefürchteten Kartellboss Juan „Little Hands" Del Monte – auch bekannt als Manitas (Karla Sofía Gascón) – helfen\, sich aus seinem schmutzigen Geschäft zurückzuziehen und für immer in der Versenkung zu verschwinden. Manitas hat einen Plan\, an dem er seit Jahren heimlich gefeilt hat: endlich die Frau sein zu können\, die er in seinem Inneren schon immer gespürt hat. Ihr Name: Emilia Pérez.\nNeben dem Preis der Jury an Regisseur Jacques Audiard und dem Darstellerpreis für das weibliche Schauspielensemble der Filmfestspiele von Cannes folgten unter anderem ein zweiter Platz bei der Vergabe des Publikumspreises in Toronto. Die französische Koproduktion gelangte auch in die Auswahl für den Europäischen Filmpreis und ist als französischer Kandidat für den Oscar 2025 in der Kategorie Bester internationaler Film ausgewählt.  \nR: Jacques Audiard\nF\, 2023\, Span. OmU (130 Min)  \nTRAILER
URL:https://metropolregion.de/veranstaltung/kino-emilia-perez/
LOCATION:Kino am Raschplatz\, Am Raschplatz 5\, Hannover\, 30161
CATEGORIES:Deutsch-französische Zusammenarbeit,Standortmarketing
END:VEVENT
BEGIN:VEVENT
DTSTART;TZID=Europe/Berlin:20241119T200000
DTEND;TZID=Europe/Berlin:20241119T220000
DTSTAMP:20260425T195200
CREATED:20241101T154243Z
LAST-MODIFIED:20250210T122328Z
UID:186378-1732046400-1732053600@metropolregion.de
SUMMARY:Lesung und Gespräch mit Raphaëlle Red
DESCRIPTION:In der Literaturreihe Poetic Justice lädt der Bachmann-Publikumspreisträger Necati Öziri Autor:innen in das Wohnzimmer der Universen ein. Am 19. November nimmt die deutsch-französische Autorin Raphaëlle Red mit ihrem jüngst erschienenen Debütroman Adikou im Wohnzimmer der Universen Platz. \nRaphaëlle Red schreibt in Adikou über die Phantome der Vergangenheit\, über Scham und über Wut und darüber\, was es bedeutet\, bei sich zu sein:\nAdikous Herkunft ist verschwommen\, die Spuren ihrer Familiengeschichte sind verwischt\, sie weiß nicht einmal\, wie man ihren Namen richtig ausspricht. Dann\, in einem drückend heißen Sommer\, hält sie es in Paris nicht mehr aus. Adikou fliegt nach Lomé\, Togo\, dem Herkunftsort ihres Vaters\, den sie nicht kennt. Wonach sie sucht\, ist ihr nicht klar\, die Fragen stellen die anderen\, bei der Passkontrolle\, in den Loméer Imbissen\, den Unterkünften\, dauernd: Wer ist dein Vater\, bist du weiß oder Schwarz oder beides\, wie fühlt es sich an\, als Frau alleine zu reisen\, sprichst du Éwé\, bist du Journalistin\, was suchst du hier?\nMehr Informationen und Karten  \nRaphaëlle Red ist eine der drei Nominierten des Prix  PREMIERE.  Mit diesem  Preis würdigt das Büro für Buch- und Verlagswesen des Institut français Deutschland Stimmen der französischen Gegenwartsliteratur\, die zum ersten Mal ins Deutsche übersetzt werden\, sowie deren Übersetzer*innen. Der Prix PREMIERE ist mit 2000 Euro dotiert\, die dem ausgezeichneten Autor*innen-Übersetzer*innen-Duo zugutekommen.\n>> Stimmen Sie ab<<
URL:https://metropolregion.de/veranstaltung/lesung-und-gespraech-mit-raphaelle-red/
LOCATION:Cumberlandsche Bühne\, Prinzenstrasse 9\, Hannover\, 30159
CATEGORIES:Deutsch-französische Zusammenarbeit,Standortmarketing
END:VEVENT
BEGIN:VEVENT
DTSTART;TZID=Europe/Berlin:20241120T110000
DTEND;TZID=Europe/Berlin:20241120T150000
DTSTAMP:20260425T195200
CREATED:20241104T115900Z
LAST-MODIFIED:20241104T115900Z
UID:186771-1732100400-1732114800@metropolregion.de
SUMMARY:Mit KI an meiner Seite: Altersgerechte Technologien entdecken und erleben
DESCRIPTION:Mit KI an meiner Seite: \n\n\n\nAltersgerechte Technologien entdecken und erleben:\n\n\n\n\nTechnologien\, die auf Künstlicher Intelligenz beruhen\, gewinnen auch im Alltag älterer Menschen zunehmend an Bedeutung. Der Einsatz von Künstlicher Intelligenz\, kurz KI\, wirft jedoch Fragen auf und bringt nicht nur technische\, sondern auch ethische und gesellschaftliche Herausforderungen mit sich.\n\n\n\n\n\n\n\n\n\nIn welcher Weise kann sie zu einem guten Leben im Alter beitragen? Wie werden die persönlichen Daten\, die von KI-Systemen verarbeitet werden\, geschützt? Besteht die Gefahr\, dass ältere Menschen durch KI-Technologien diskriminiert werden\, beispielsweise durch Algorithmen\, die auf Altersstereotypen basieren? Wie können ältere Menschen im Umgang mit KI-Technologien geschult werden\, um diese sicher und effektiv zu nutzen? \nDas Niedersachsenbüro Neues Wohnen im Alter und die Niedersachsen.next GmbH mit der Landesinitiative Niedersachsen Generationengerechter Alltag (LINGA) setzen sich dafür ein\, dass ältere Menschen aktiv an den Diskussionen über diese Fragen beteiligt werden. Unterstützt werden sie von den Niedersachsen.next-Initiativen „Digitalagentur“ und „Start-up“. \n\nIn der Veranstaltung „Mit KI an meiner Seite: Altersgerechte Technologien entdecken und erleben“ 20. November 2024\, von 11:00 bis 15:00 Uhr\, im TrafoHub in Braunschweig erfahren Sie Wissenswertes rund um digitale Technologien und Künstliche Intelligenz\, bei der die Menschen\, insbesondere Ältere\, im Mittelpunkt stehen. Gleichzeitig haben Sie Gelegenheit\, Geräte\, Produkte und Anwendungen/digitale Lösungen in der Technik-Area mit einem Parcours hautnah zu erleben. Eine Podiumsdiskussion wird den Thementag abrunden. \nDas Projekt „KI für ein gutes Altern“\, im Rahmen dessen diese Veranstaltung durchgeführt wird\, vermittelt älteren Menschen und Seniorenorganisationen Kompetenzen rund um das Thema „Künstliche Intelligenz“. Es möchte dazu beitragen\, dass ältere Menschen sich in aktuellen Diskussionen über ChatGPT\, Mustererkennung oder selbstlernende Algorithmen aktiv einbringen können\, und dafür sorgen\, dass sie in Forschung und Entwicklung von KI-Systemen stärker wahrgenommen und berücksichtigt werden. \n„KI für ein gutes Altern“ ist ein Projekt der BAGSO Bundesarbeitsgemeinschaft der Seniorenorganisationen e.V. und wird von 2023 bis 2025 vom Bundesministerium für Familie\, Senioren\, Jugend und Frauen gefördert. Weitere Informationen auf ki-und-alter.de
URL:https://metropolregion.de/veranstaltung/mit-ki-an-meiner-seite-altersgerechte-technologien-entdecken-und-erleben/
LOCATION:TRAFO Hub\, Sophienstraße 40\, Braunschweig\, 38118
CATEGORIES:Partnerveranstaltung
ATTACH;FMTTYPE=image/png:https://metropolregion.de/wp-content/uploads/2022/11/Logo-LINGA-4C.png
END:VEVENT
BEGIN:VEVENT
DTSTART;TZID=Europe/Berlin:20241121T200000
DTEND;TZID=Europe/Berlin:20241121T220000
DTSTAMP:20260425T195200
CREATED:20241009T124006Z
LAST-MODIFIED:20241021T070000Z
UID:183632-1732219200-1732226400@metropolregion.de
SUMMARY:KONZERT | Héloïse Bay Trio mit Cédric Chauveau und Hervé Jeanne
DESCRIPTION:Das Héloïse Bay Trio bietet eine Reise durch die reichhaltige Welt der französischen Chansons\, neu interpretiert mit dem Schwung und der Improvisationsfreude des Jazz. Das Trio präsentiert ein Chanson-Programm um Legenden wie Serge Gainsbourg\, Michel Fugain\, Bernard Lavilliers\, Georges Brassens oder Barbara\, das die Seele der französischen Musik einfängt und gleichzeitig neue\, frische Akzente setzt. Besonders hervorzuheben ist ihr eigenes\, swingendes Arrangement von „Göttingen“\, Barbaras Hymne für die deutsch-französische Verständigung. \nHéloïse Bay\, Gesang (Frankreich) / Cédric Chauvea\, Klavier (Frankreich) / Hervé Jeanne\, Kontrabass (Hannover) \nReservierungen mit dem Formular unter www.kanapee.de \nEintritt frei. Sie haben nach dem Konzert die Gelegenheit\, den Künstlern Ihre Wertschätzung mit einer individuellen Eintrittsspende in den Zylinder auszudrücken \nWeiterer Termin: 22.11.2024 um 20 Uhr im Kanapee
URL:https://metropolregion.de/veranstaltung/konzert-heloise-bay-trio-mit-cedric-chauveau-und-herve-jeanne/
LOCATION:Kanapee\, Edenstraße 1\, Hannover\, 30161
CATEGORIES:Deutsch-französische Zusammenarbeit,Standortmarketing
ATTACH;FMTTYPE=image/jpeg:https://metropolregion.de/wp-content/uploads/2024/10/Herve-Jeanne-Trio.jpg
END:VEVENT
BEGIN:VEVENT
DTSTART;TZID=Europe/Berlin:20241125T203000
DTEND;TZID=Europe/Berlin:20241125T220000
DTSTAMP:20260425T195200
CREATED:20241016T114034Z
LAST-MODIFIED:20241018T063537Z
UID:184430-1732566600-1732572000@metropolregion.de
SUMMARY:Kino | Tandem - Langue Etrangère
DESCRIPTION:Seit Jahren haben die schüchterne Fanny (Lilith Grasmug) und die aufbrausende Lena (Josefa Heinsius) eine Brieffreundschaft. Bei ihrer ersten Begegnung in Leipzig springt der Funke nicht über\, doch schon bald fühlen die Beiden eine tiefe Verbundenheit\, die vielleicht sogar mehr als nur Freundschaft ist. Bei den gegenseitigen Besuchen lernen sie nicht nur die großen und kleinen Unterschiede in Alltag\, Kultur und Schule kennen\, sondern auch\, wie man diese überbrücken kann. \nR: Claire Burger\nF\, D\, Belg. 2023\, 105 Min.\nFranzösisch / Deutsch / Englisch mit deutschen Untertiteln \nRegisseurin Claire Burger fängt die Unsicherheit und die Sehnsucht Heranwachsender wunderbar ein. TANDEM ist jedoch mehr als nur eine Coming-of-Age-Geschichte. Neben Fragen nach Identität\, Zugehörigkeit wirft der Film auch das große Thema Globalisierung mit all ihren Herausforderungen auf. Die Frage\, in welcher Sprache man träumt\, steht für die Suche nach einer gemeinsamen Sprache\, die über alle kulturellen und sprachlichen Barrieren hinwegreicht.\nIm fabelhaften Darstellerensemble überzeugen insbesondere die schauspielerischen Leistungen der beiden Newcomerinnen Lilith Grasmug und Josefa Heinsius. Der Film wurde je zur Hälfte in Leipzig und in Straßburg gedreht und hat mit Nina Hoss und Chiara Mastroianni in den Rollen der Mütter auch zwei Stars des europäischen Kinos aufzubieten. \nDer Film wurde bei seiner Weltpremiere auf der diesjährigen Berlinale begeistert vom Publikum aufgenommen. \nTrailer
URL:https://metropolregion.de/veranstaltung/kino-am-raschplatz-tandem-in-welcher-sprache-traeumst-du/
LOCATION:Kino am Raschplatz\, Am Raschplatz 5\, Hannover\, 30161
CATEGORIES:Deutsch-französische Zusammenarbeit,Standortmarketing
END:VEVENT
BEGIN:VEVENT
DTSTART;TZID=Europe/Berlin:20241128T000000
DTEND;TZID=Europe/Berlin:20241128T235959
DTSTAMP:20260425T195200
CREATED:20241112T063153Z
LAST-MODIFIED:20241112T063248Z
UID:187193-1732752000-1732838399@metropolregion.de
SUMMARY:UNLEASH: Die neue Startup Convention in Hannover
DESCRIPTION:Am 28.11. kommt die norddeutsche Startup-Szene bei UNLEASH zusammen\, um einen Tag lang Inspirationen\, Wissen und Networking zu teilen. Dafür gibt es den richtigen Mix aus Panels\, Masterclasses\, Keynotes und natürlich auch Pitches. \nDie UNLEASH ist der richtige Ort für visionäre Gründerinnen und Gründer\, dynamische Jungunternehmen\, etablierte Corporates\, zukunftsorientierte Investoren und Wissenschaft. Hier wird die Zukunft der Wirtschaft gestaltet.  Alle Details gibt es unter: www.unleash-hannover.de
URL:https://metropolregion.de/veranstaltung/unleash-die-neue-startup-convention-in-hannover/
LOCATION:Hannover\, Hannover\, Niedersachsen\, Deutschland
CATEGORIES:Empfohlen
ATTACH;FMTTYPE=image/png:https://metropolregion.de/wp-content/uploads/2024/11/UNLEASH-Newsletter-480x290px.png
END:VEVENT
END:VCALENDAR