BEGIN:VCALENDAR
VERSION:2.0
PRODID:-//Metropolregion - ECPv6.15.13//NONSGML v1.0//EN
CALSCALE:GREGORIAN
METHOD:PUBLISH
X-ORIGINAL-URL:https://metropolregion.de
X-WR-CALDESC:Veranstaltungen für Metropolregion
REFRESH-INTERVAL;VALUE=DURATION:PT1H
X-Robots-Tag:noindex
X-PUBLISHED-TTL:PT1H
BEGIN:VTIMEZONE
TZID:Europe/Berlin
BEGIN:DAYLIGHT
TZOFFSETFROM:+0100
TZOFFSETTO:+0200
TZNAME:CEST
DTSTART:20230326T010000
END:DAYLIGHT
BEGIN:STANDARD
TZOFFSETFROM:+0200
TZOFFSETTO:+0100
TZNAME:CET
DTSTART:20231029T010000
END:STANDARD
BEGIN:DAYLIGHT
TZOFFSETFROM:+0100
TZOFFSETTO:+0200
TZNAME:CEST
DTSTART:20240331T010000
END:DAYLIGHT
BEGIN:STANDARD
TZOFFSETFROM:+0200
TZOFFSETTO:+0100
TZNAME:CET
DTSTART:20241027T010000
END:STANDARD
BEGIN:DAYLIGHT
TZOFFSETFROM:+0100
TZOFFSETTO:+0200
TZNAME:CEST
DTSTART:20250330T010000
END:DAYLIGHT
BEGIN:STANDARD
TZOFFSETFROM:+0200
TZOFFSETTO:+0100
TZNAME:CET
DTSTART:20251026T010000
END:STANDARD
END:VTIMEZONE
BEGIN:VEVENT
DTSTART;TZID=Europe/Berlin:20241202T203000
DTEND;TZID=Europe/Berlin:20241202T220000
DTSTAMP:20260425T184837
CREATED:20241120T134818Z
LAST-MODIFIED:20241120T140317Z
UID:187953-1733171400-1733176800@metropolregion.de
SUMMARY:Ciné-Club | Noël Joyeux
DESCRIPTION:Nach DIE RUMBA-THERAPIE der nächste französische Komödien-Hit mit Franck Dubosc!\nEine festliche\, berührende und hinreißend witzige Komödie\, die dem winterlichen Wetter mit viel besinnlicher Wärme trotzt. Weihnachtsstimmung pur und perfektes Kino für die Weihnachtszeit. \nWeihnachten ist die schönste Zeit des Jahres – zumindest im Haus der Barands! Für den familiär veranlagten Vincent (Franck Dubosc) können die besinnlichen Festlichkeiten gar nicht fürstlich genug gefeiert werden. Umso größer ist die Enttäuschung\, als seine Kinder ihren Festtagsbesuch der Reihe nach absagen. Während seine Frau Beatrice (Emmanuelle Devos) den Truthahn kurzerhand zurück ins Eisfach verbannt\, bleibt Vincent stur. Weihnachten ist schließlich das Fest der Geselligkeit... \nR: Clément Michel\nF\, 2023\, OmU\, (87 Min) \nTrailer
URL:https://metropolregion.de/veranstaltung/noel-joyeux/
LOCATION:Kino am Raschplatz\, Am Raschplatz 5\, Hannover\, 30161
CATEGORIES:Deutsch-französische Zusammenarbeit,Standortmarketing
END:VEVENT
BEGIN:VEVENT
DTSTART;TZID=Europe/Berlin:20241204T201500
DTEND;TZID=Europe/Berlin:20241204T220000
DTSTAMP:20260425T184837
CREATED:20241016T071114Z
LAST-MODIFIED:20241016T072157Z
UID:184406-1733343300-1733349600@metropolregion.de
SUMMARY:Ciné-Club Francophone | La Page Blanche
DESCRIPTION:Éloïse (Sara Giraudeau) findet sich allein auf einer Pariser Bank sitzend wieder. Wer ist sie? Was tut sie hier? Nichts fällt ihr ein. Die junge Frau beginnt eine Untersuchung ihres Lebens voller Überraschungen. Was wäre\, wenn diese Amnesie es ihr ermöglichen würde\, die Liebe zu finden und ihr Leben neu zu erfinden? \nR: Murielle Magellan\nF\, 2022\, 99 Min\nOmUeng \nDie Reihe „Ciné-club francophone“ vom Sprachbereich Französisch ist für alle Sprachstufen (A1-C2) und für alle Interessentinnen und Interessenten (Studierende\, Beschäftigte sowie Externe) gedacht\, die die französische Sprache und Kultur auf diese informelle Weise näher kennen wollen \nAnmeldungen: In Aura unter „Interkulturelles/Workshops und Events“:\nKostenfreie Anmeldung \nTrailer
URL:https://metropolregion.de/veranstaltung/cine-club-francophone-la-page-blanche/
LOCATION:TU Braunschweig - International House\, Bültenweg 74/75\, Braunschweig\, 38106
CATEGORIES:Deutsch-französische Zusammenarbeit,Standortmarketing
END:VEVENT
BEGIN:VEVENT
DTSTART;TZID=Europe/Berlin:20241214T190000
DTEND;TZID=Europe/Berlin:20241214T213000
DTSTAMP:20260425T184837
CREATED:20241106T130300Z
LAST-MODIFIED:20241118T113709Z
UID:186975-1734202800-1734211800@metropolregion.de
SUMMARY:Konzert | Flex Ensemble - Hommage(s)
DESCRIPTION:Dieses SalonKonzert des Flex Ensemble zeigt die Entwicklung der kompositorischen Sprache für Klavierquartett sowie die stilistischen Veränderungen bei zwei französischen Komponisten des späten 19. und frühen 21. Jahrhunderts: Gabriel Fauré und Gérard Pesson. \nMit den imPULS SalonKonzerten präsentiert das Flex Ensemble drei neue\, aufregend innovative Konzertprogramme als moderne Version des Salonkonzerts des 19. Jahrhunderts: das Werk eines Komponisten oder dessen neue Bearbeitung für Klavierquartett sind das in einem intimen Rahmen erlebbare Repertoire dieser Konzertreihe. Abgerundet durch neue und alte Werke\, Gespräche\, Literatur\, Briefe oder Poesie\, kontextualisiert und verbindet das Flex Ensemble die Musik\, um ihren Klang gemeinsam von innen heraus zu entdecken und zu genießen. Dem Publikum schenken die SalonKonzerte so eine völlig andere und frische Perspektive auf "bekannte" Werke und bringen noch nie gehörte Details zum Vorschein um die Kammermusikherzen höher schlagen zu lassen.\nimPULS 2024 – Konzertreihe präsentiert vom Flex Ensemble. \nDas für seine musikalisch ausgefeilten und energiegeladenen Aufführungen bekannte Flex Ensemble begeistert seit 2012 sein Publikum in Europa und im Ausland mit Programmen\, die vom klassisch-romantischen Klavierquartett-Repertoire bis hin zu modernen Präsentationen mit Kompositionsaufträgen renommierter zeitgenössischer Komponisten sowie interdisziplinären Kooperationen mit Tanz\, Theater und bildender Kunst reichen. \nKünstler*innen: Kana Sugimura – Violine; Anna Szulc – Viola; Martha Bijlsma – Violoncello; Johannes Nies - Klavier \nPROGRAMM\nGérard Pesson (1958) - Mes béatitudes (1994/1995)\nGabriel Fauré (1845-1924) - Klavierquartett Nr. 1 c-Moll\, op. 15 \nGérard Pesson (1958) – Neues Werk für Klavierquartett (UA)\nGabriel Fauré (1845-1924) - Klavierquartett Nr. 2 g-Moll\, op. 45\nDauer: 2\,5 Stunden inkl. Pause. \nWeitere Informationen und Reservierungen (begrenzte Plätze) \nEintritt frei. Pay what you can.
URL:https://metropolregion.de/veranstaltung/konzert-flex-ensemble-hommages/
LOCATION:Künstlerhaus Hannover\, Sophienstraße 2\, Hannover\, 30159
CATEGORIES:Deutsch-französische Zusammenarbeit,Standortmarketing
ATTACH;FMTTYPE=image/jpeg:https://metropolregion.de/wp-content/uploads/2024/11/Flex-Ensemble-SalonKonzert-Hommages_Fotografin-Zuzanna-Specjal-scaled.jpg
END:VEVENT
BEGIN:VEVENT
DTSTART;TZID=Europe/Berlin:20241216T203000
DTEND;TZID=Europe/Berlin:20241216T220000
DTSTAMP:20260425T184837
CREATED:20241120T135531Z
LAST-MODIFIED:20241120T140135Z
UID:187959-1734381000-1734386400@metropolregion.de
SUMMARY:Ciné-Club | Un Noël en Famille
DESCRIPTION:Es ist Weihnachten in der charmanten Kleinstadt! Bürgermeisterin Carole hilft den Einwohnern\, damit die Gemeinde in festlicher Stimmung erstrahlt\, während ihr treusorgender Gatte Alain die Feierlichkeiten an Heilig Abend zu Hause organisiert. \nDoch als die Kinder eintreffen\, schwinden schon bald alle Hoffnungen auf ein friedliches Weihnachtsfest. Denn alle Familientraditionen werden in Frage gestellt: Der gute Wein ist nur dann akzeptabel\, wenn er aus biologischem Anbau stammt\, das Licht für den Weihnachtsschmuck muss aus bleiben und Alains geliebte Gänseleberpastete ist tabu…\nNicht nur auf der Erde\, sondern auch am Familientisch heizt sich das Klima spürbar auf. Außerdem warten alle auf die große Neuigkeit\, die die älteste Tochter verkünden soll.\nNoch nie war Weihnachten so aufregend – und nervenaufreibend! \nR: Jeanne Gottesdiener\nF\, 2024\, OmU (90 Min) \nTrailer
URL:https://metropolregion.de/veranstaltung/cine-club-un-noel-en-famille/
LOCATION:Kino am Raschplatz\, Am Raschplatz 5\, Hannover\, 30161
CATEGORIES:Deutsch-französische Zusammenarbeit,Standortmarketing
END:VEVENT
END:VCALENDAR