BEGIN:VCALENDAR
VERSION:2.0
PRODID:-//Metropolregion - ECPv6.15.13//NONSGML v1.0//EN
CALSCALE:GREGORIAN
METHOD:PUBLISH
X-WR-CALNAME:Metropolregion
X-ORIGINAL-URL:https://metropolregion.de
X-WR-CALDESC:Veranstaltungen für Metropolregion
REFRESH-INTERVAL;VALUE=DURATION:PT1H
X-Robots-Tag:noindex
X-PUBLISHED-TTL:PT1H
BEGIN:VTIMEZONE
TZID:Europe/Berlin
BEGIN:DAYLIGHT
TZOFFSETFROM:+0100
TZOFFSETTO:+0200
TZNAME:CEST
DTSTART:20240331T010000
END:DAYLIGHT
BEGIN:STANDARD
TZOFFSETFROM:+0200
TZOFFSETTO:+0100
TZNAME:CET
DTSTART:20241027T010000
END:STANDARD
BEGIN:DAYLIGHT
TZOFFSETFROM:+0100
TZOFFSETTO:+0200
TZNAME:CEST
DTSTART:20250330T010000
END:DAYLIGHT
BEGIN:STANDARD
TZOFFSETFROM:+0200
TZOFFSETTO:+0100
TZNAME:CET
DTSTART:20251026T010000
END:STANDARD
BEGIN:DAYLIGHT
TZOFFSETFROM:+0100
TZOFFSETTO:+0200
TZNAME:CEST
DTSTART:20260329T010000
END:DAYLIGHT
BEGIN:STANDARD
TZOFFSETFROM:+0200
TZOFFSETTO:+0100
TZNAME:CET
DTSTART:20261025T010000
END:STANDARD
END:VTIMEZONE
BEGIN:VEVENT
DTSTART;TZID=Europe/Berlin:20250407T204500
DTEND;TZID=Europe/Berlin:20250407T223000
DTSTAMP:20260425T131008
CREATED:20250311T195342Z
LAST-MODIFIED:20250317T101525Z
UID:209307-1744058700-1744065000@metropolregion.de
SUMMARY:Ciné-Club | Voilà\, Papa! - Jamais sans mon psy
DESCRIPTION:Vorpremiere am 07. April im Kino am Raschplatz! \nAls Psychoanalytiker Oliver muss er sich mit einem extrem ängstlichen und anhänglichen Klienten rumschlagen: Damien! Um ihn loszuwerden\, redet er ihm ein\, dass nur die wahre Liebe ihn von seinen Phobien befreien könne. Doch ein Jahr später präsentiert ihm seine Tochter Alice den neuen Mann an ihrer Seite: Damien! Olivier muss handeln\, denn den PRFEKTEN SCHWIEGERSOHN hatte er sich immer anders vorgestellt ... \nMit Christian Clavier\, Baptiste Lecaplain\, Claire Chust \nR: Arnaud Lemort\nFrankreich 2024\, OmU (90 Min.)\, FSK: 12 Jahre \nTrailer
URL:https://metropolregion.de/veranstaltung/voila-papa-jamais-sans-mon-psy/
LOCATION:Kino am Raschplatz\, Am Raschplatz 5\, Hannover\, 30161
CATEGORIES:Deutsch-französische Zusammenarbeit,Europäische Zusammenarbeit
END:VEVENT
BEGIN:VEVENT
DTSTART;TZID=Europe/Berlin:20250412T203000
DTEND;TZID=Europe/Berlin:20250412T220000
DTSTAMP:20260425T131008
CREATED:20250310T103533Z
LAST-MODIFIED:20250320T071714Z
UID:207918-1744489800-1744495200@metropolregion.de
SUMMARY:Cinéma | Latcho Drom
DESCRIPTION:Der Film - "Latcho Drom" bedeutet so viel wie "gute Reise" - folgt in acht musikalischen Episoden\, vom Sommer über den Herbst und Winter bis zum Frühling\, der historischen Route\, die die Roma nahmen\, von den Wüsten Rajasthans bis nach Les-Saintes-Maries-de-la-Mer am Mittelmeer. \nUnd in jedem neuen Land bildeten sich neue Musikstile\, neue Lieder und Tänze heraus\, die die ganz eigenen kulturellen Werte der Roma verdeutlichen. \nGatlif\, aus Algerien stamender Kabyle-Rom\, erweist sich als authentischer Experte\, vor allem bei der Darstellung der im Mittelmeerraum lebenden Roma-Communities. Während er seine Protagonist*innen als humanistische\, realistische und positive Figuren zeigte\, produzierte er eine quasi anthropologische und ethnomusikalische Schau im Genre des Roadmovies über Sinti und Roma und ihre historische Migration vom indischen Ursprung durch Asien und Nordafrika bis nach Süd-\, Ost- und Westeuropa. \nR: Tony Gatlif \nFrankreich 1993\, O.m.engl.U. (103 Min) \nTrailer
URL:https://metropolregion.de/veranstaltung/cinema-latcho-drom/
LOCATION:KINO IM SPRENGEL\, Klaus-Müller-Kilian-Weg 1\, Hannover\, 30167
CATEGORIES:Deutsch-französische Zusammenarbeit,Europäische Zusammenarbeit
END:VEVENT
BEGIN:VEVENT
DTSTART;VALUE=DATE:20250414
DTEND;VALUE=DATE:20250423
DTSTAMP:20260425T131008
CREATED:20250317T103706Z
LAST-MODIFIED:20250409T055925Z
UID:211207-1744588800-1745366399@metropolregion.de
SUMMARY:Cinéma | Chanson der Liebe
DESCRIPTION:Paris\, 10. Arrondissement. Ismaël und Julie sind seit Jahren ein Paar\, doch in der Beziehung kriselt es. Um neuen Schwung zu bekommen\, holen sie sich Alice dazu – aber auch das Modell Ménage-à-trois will nicht so richtig funktionieren. Als Julie unerwartet an Herzversagen stirbt\, weiß Ismaël nicht wohin mit seiner Trauer. Selbst Julies Schwester Jeanne kann ihn nicht trösten. Erst die Begegnung mit dem jungen\, hübschen Bretonen Erwann bringt ihn auf andere Gedanken. \nChristophe Honorés hochromantisches Musical „Chanson der Liebe“ mit Louis Garrel\, Ludivine Sagnier und Chiara Mastroianni ist eine wunderbare Hommage an Paris\, die Filme der Nouvelle Vague und vor allem Jacques Demys Meisterwerk „Die Regenschirme von Cherbourg“. In seinem Liebeskarussell\, das sich zu 13 hinreißenden Liedern voller Leidenschaft dreht\, lässt Honoré seine Figuren derart herzzerreißend singen\, tanzen\, lieben und trauern\, dass „Chanson der Liebe“ selbst längst als Klassiker des jungen französischen Kinos gilt. \nDer Film läuft am 19. April sowie am 22. April jeweils um 19:30 Uhr. \nRegie: Christophe Honoré\nFrankreich 2007\, OmU (92 Min) \nTrailer
URL:https://metropolregion.de/veranstaltung/cinema-chanson-der-liebe-2/
LOCATION:Kino im Künstlerhaus\, Sophienstrasse 2\, Hannover\, 30159
CATEGORIES:Deutsch-französische Zusammenarbeit,Europäische Zusammenarbeit
END:VEVENT
BEGIN:VEVENT
DTSTART;TZID=Europe/Berlin:20250423T201500
DTEND;TZID=Europe/Berlin:20250423T220000
DTSTAMP:20260425T131008
CREATED:20250310T104834Z
LAST-MODIFIED:20250310T104834Z
UID:207923-1745439300-1745445600@metropolregion.de
SUMMARY:Ciné-club francophone | L'adieu à la nuit
DESCRIPTION:Muriel ist überglücklich\, dass ihr Enkel Alex ein paar Tage bei ihr verbringt\, bevor er nach Kanada zieht. Sein Verhalten machte sie stutzig und sie findet bald heraus\, dass er sie angelogen hat. Alex bereitet sich auf ein anderes Leben vor. Muriel ist erschüttert und muss sehr schnell reagieren... \nR: André Téchiné\nFrankreich 2018\, OmUeng+fr (103 Min) \nTrailer \nIm Rahmen des Ciné-club francophone zeigt das Sprachenzentrum der TU Braunschweig im Sommersemester in Zusammenarbeit mit Antenne Métropole (Hannover) und dem Institut français Paris vier ausgewählte Filme in der französischen Originalfassung mit deutschen oder englischen Untertiteln.\nDer Ciné-club francophone ist für alle Niveaustufen geeignet (A1-C2) sowie offen und kostenfrei für alle Interessierten (auch Nicht-Studierende). \nEine Anmeldung zu den Veranstaltungen ist erforderlich!\nFür Externe per Mail an i.laval-speier(at)tu-braunschweig.de\nund über TUconnect bzw. StudIP für TU Studierende\, HBK-Studierende und TU-Beschäftigte
URL:https://metropolregion.de/veranstaltung/cine-club-francophone-ladieu-a-la-nuit/
LOCATION:TU Braunschweig - International House\, Bültenweg 74/75\, Braunschweig\, 38106
CATEGORIES:Deutsch-französische Zusammenarbeit,Europäische Zusammenarbeit
END:VEVENT
BEGIN:VEVENT
DTSTART;TZID=Europe/Berlin:20250428T203000
DTEND;TZID=Europe/Berlin:20250428T230000
DTSTAMP:20260425T131008
CREATED:20250127T082638Z
LAST-MODIFIED:20250324T111024Z
UID:197395-1745872200-1745881200@metropolregion.de
SUMMARY:Ciné-Club | L'amour Ouf
DESCRIPTION:In den 80er Jahren\, im Norden Frankreichs. \nDer rebellische Teenager Clotaire\, der in einem unruhigen Viertel aufgewachsen ist\, verliebt sich in seine Schulkameradin Jackie\, die von ihrem furchtlosen Geist und ihrem scharfen Witz bezaubert ist. Als die erste Liebe zwischen den beiden aufblüht\, lockt ihn die zügellose Bandengewalt auf einen viel dunkleren Weg und zerstört schließlich alles\, was sie aufgebaut haben\, als er eines Verbrechens angeklagt wird\, das er nicht begangen hat. Nach vielen Jahren der Trennung und einem völlig anderen Leben\, entdecken die unglücklichen Liebenden\, dass jeder Weg\, den sie eingeschlagen haben\, sie wieder zusammenführt\, aber wird die Liebe über Clotaires Rachefeldzug triumphieren? \nMit Adèle Exarchopoulos\, François Civil\, Malik Frikah u.a. \nR: Gilles Lellouche\nFrankreich\, 2024\, OmU (160 Min.)\, FSK 16 J. \nTrailer
URL:https://metropolregion.de/veranstaltung/film-lamour-ouf/
LOCATION:Kino am Raschplatz\, Am Raschplatz 5\, Hannover\, 30161
CATEGORIES:Deutsch-französische Zusammenarbeit,Europäische Zusammenarbeit
END:VEVENT
BEGIN:VEVENT
DTSTART;TZID=Europe/Berlin:20250429T140000
DTEND;TZID=Europe/Berlin:20250429T200000
DTSTAMP:20260425T131008
CREATED:20250318T093728Z
LAST-MODIFIED:20250401T130119Z
UID:211422-1745935200-1745956800@metropolregion.de
SUMMARY:Ideenwettbewerb: Mobilität anders denken
DESCRIPTION:Du bist Studi der Geistes- (u.a. WiWi\, Regionalplanung) oder Ingenieurswissenschaften\, Informatik\, Dualer Studi oder Azubi in einem Verkehrsbetrieb oder der öffentlichen Verwaltung oder bist einfach begeisterter Mobilitätsfan? \nDie Mobilität von morgen braucht neue Ideen – und genau hier kommst Du ins Spiel: \nAm 29. April 2025 findet die Auftaktveranstaltung unseres Ideenwettbewerbs statt. Hier kannst Du in interdisziplinären Teams neue Mobilitätslösungen entwickeln\, kreative Konzepte austüfteln und Deine Idee in ein echtes Projekt für die Praxis verwandeln. Die innovativsten Ideen werden im weiteren Prozess mit einem Preisgeld belohnt und haben die Chance auf eine Weiterentwicklung in der Region! \nWie sind wir hier gelandet? \nDer Wettbewerb ist Teil eines größeren Innovationsprozesses: \n\nIm Januar 2025 haben wir beim Strategic Foresight Workshop mit Expert:innen über die Mobilität der Zukunft nachgedacht.\nDort wurden vier zentrale Herausforderungen identifiziert\, für die wir jetzt kreative Lösungen brauchen.\nJetzt seid Ihr dran! Entwickelt Ideen für diese Zukunftsbereiche und gestaltet die Mobilitätswende aktiv mit.\n\nDie vier Themenfelder für Deine Idee: \n1. Neue Mobilitätsfinanzierung und smarte Verkehrssysteme\nWie kann Mobilität fair finanziert und clever organisiert werden? Von intelligenter Maut bis zu neuen Sharing-Modellen gibt es viele Ideen. \nFinanzierungsinnovationen: Die Erneuerung und der strukturelle Umbau des Verkehrs- und Mobilitätssystems sind mit erheblichen Investitionen verbunden. Für deren Finanzierung\, aber auch für eine bessere Steuerung der Mobilitätsnachfrage\, werden immer wieder Pricing-Modelle diskutiert\, die zur Steigerung der Akzeptanz in ein übergreifendes Angebot für Mobilität und Energie eingebunden werden müssen. Diese müssen auch in die Bedarfe des Nutzenden sowie des Anbieters passen. Gesucht werden Mobilitätsservices\, die eine intelligente Bepreisung der Nutzung von Infrastruktur\, Mobilität (ÖPNV\, Sharing) und Energie koppeln und Anreizsysteme schaffen. \n2. KI-gestützte Infrastruktur und nachhaltige Stadtplanung\nViele Straßen\, Schienen\, Brücken und weitere Mobilitätsinfrastruktur sind veraltet – wie kann moderne Technik helfen\, sie nachhaltiger und smarter zu gestalten? \nInfrastrukturinnovation: Eine leistungsfähige und funktionsfähige Infrastruktur ist Voraussetzung für die gesellschaftliche und wirtschaftliche Attraktivität in Deutschland und Europa. Die Notwendigkeit von umfassenden Erneuerungen und Innovationen wird allseits anerkannt. Daher suchen wir neue Ideen zur schnellen\, umweltfreundlichen und krisenresilienten Planung von Systemen der Straßeninfrastruktur und zu deren Betrieb. \n3. Neue Fahrzeugkonzepte und Geschäftsmodelle für die Mobilität\nVon Last-Mile-Fahrzeugen bis zu Second-Life-Batterien – wie sieht die nächste Fahrzeuggeneration aus? \nFahrzeuginnovation - Pkw: Das Auto ist in weniger dicht besiedelten Regionen\, Städten aber auch Stadtteilen immer noch ein fester Bestandteil der Mobilität größerer Bevölkerungsgruppen. Dennoch steht es auch im Hinblick auf den Klimawandel und die Lebensqualität in unseren Städten in der Kritik. Gesucht werden innovative Ideen\, die diesen Widerspruch aufnehmen und intermodale Servicedesigns mit hierauf abgestimmten innovativen Fahrzeugkonzepten entwerfen und dabei „vertikale“ Wertschöpfung einbeziehen. \n4. Zukunft des ÖPNV und innovative Mobilitätsservices\nÖPNV wird immer wichtiger – aber wie kann er attraktiver\, vernetzter\, bedarfsorientierter und wirtschaftlicher gestaltet werden? \nMobility Service Innovation: Öffentlichen Verkehr\, Sharing-Services sowie innovative Formen der Logistik werden als Schlüssel zu einer nachhaltigen und multimodalen Mobilität gesehen. Erste Erfolge sind erkennbar\, jedoch sind für mittelgroße Städte und Zentren im ländlichen Raum noch wirtschaftlich tragfähige Angebote erforderlich. Wir suchen neue Servicedesigns für die kombinierte Mobilität von Personen und Gütern\, die auch hierfür geeignete Fahrzeugkonzepte miteinschließen. \nWann & Wo? \n29. April 2025\, 14:00 – 20:00 Uhr\nOrt: PULS\, Angoulêmeplatz 2 in Hildesheim \nWarum solltest Du mitmachen? \n\nEntwickle echte Lösungen für die Praxis und Mobilität der Zukunft\nArbeite mit anderen kreativen Köpfen in Teams zusammen\nGewinne Preisgelder für Deine Idee in der weiteren Projektphase\nDeine Idee kann in regionale Projekte einfließen und umgesetzt werden\n\nJetzt anmelden!\nSchicke Deine Anmeldung bis zum 25. April 2025 an: events@metropolregion.de \nAlle Infos rund um das Projekt Werkstatt MoVI findest du hier: https://metropolregion.de/mobilitaet/projekte/werkstatt-movi/ \nDas Projekt wird gefördert vom Amt für regionale Landesentwicklung Leine-Weser.
URL:https://metropolregion.de/veranstaltung/ideenwettbewerb-mobilitaet-anders-denken/
LOCATION:Puls Hildesheim\, Angoulêmeplatz 2\, Hildesheim\, 31134\, Deutschland
CATEGORIES:Empfohlen,Mobilität,Mobilität News
ATTACH;FMTTYPE=image/png:https://metropolregion.de/wp-content/uploads/2025/03/Design-ohne-Titel-2.png
END:VEVENT
END:VCALENDAR