BEGIN:VCALENDAR
VERSION:2.0
PRODID:-//Metropolregion - ECPv6.15.13//NONSGML v1.0//EN
CALSCALE:GREGORIAN
METHOD:PUBLISH
X-ORIGINAL-URL:https://metropolregion.de
X-WR-CALDESC:Veranstaltungen für Metropolregion
REFRESH-INTERVAL;VALUE=DURATION:PT1H
X-Robots-Tag:noindex
X-PUBLISHED-TTL:PT1H
BEGIN:VTIMEZONE
TZID:Europe/Berlin
BEGIN:DAYLIGHT
TZOFFSETFROM:+0100
TZOFFSETTO:+0200
TZNAME:CEST
DTSTART:20240331T010000
END:DAYLIGHT
BEGIN:STANDARD
TZOFFSETFROM:+0200
TZOFFSETTO:+0100
TZNAME:CET
DTSTART:20241027T010000
END:STANDARD
BEGIN:DAYLIGHT
TZOFFSETFROM:+0100
TZOFFSETTO:+0200
TZNAME:CEST
DTSTART:20250330T010000
END:DAYLIGHT
BEGIN:STANDARD
TZOFFSETFROM:+0200
TZOFFSETTO:+0100
TZNAME:CET
DTSTART:20251026T010000
END:STANDARD
BEGIN:DAYLIGHT
TZOFFSETFROM:+0100
TZOFFSETTO:+0200
TZNAME:CEST
DTSTART:20260329T010000
END:DAYLIGHT
BEGIN:STANDARD
TZOFFSETFROM:+0200
TZOFFSETTO:+0100
TZNAME:CET
DTSTART:20261025T010000
END:STANDARD
BEGIN:DAYLIGHT
TZOFFSETFROM:+0100
TZOFFSETTO:+0200
TZNAME:CEST
DTSTART:20270328T010000
END:DAYLIGHT
BEGIN:STANDARD
TZOFFSETFROM:+0200
TZOFFSETTO:+0100
TZNAME:CET
DTSTART:20271031T010000
END:STANDARD
END:VTIMEZONE
BEGIN:VEVENT
DTSTART;VALUE=DATE:20250906
DTEND;VALUE=DATE:20260215
DTSTAMP:20260423T133624
CREATED:20250812T080129Z
LAST-MODIFIED:20251015T135217Z
UID:237548-1757116800-1771113599@metropolregion.de
SUMMARY:Austellung | Love You For Infinity
DESCRIPTION:NIKI. KUSAMA. MURAKAMI.\nLOVE YOU FOR INFINITY\n6.9.25 BIS 14.2.26  \nKunst der Superlative: „Love You For Infinity“ bringt erstmals Werke von Niki de Saint Phalle\, Yayoi Kusama und Takashi Murakami in einer gemeinsamen Ausstellung zusammen. Das Sprengel Museum Hannover präsentiert ab 6. September 2025 das Highlight von internationalem Format – ermöglicht durch die Kulturpartnerschaft mit enercity. Bereits jetzt geben Museum\, Stadt und enercity exklusive Einblicke hinter die Kulissen der Schau.  \nMit einem ambitionierten Ausstellungsprojekt setzt das Sprengel Museum Hannover im Herbst 2025 ein Ausrufezeichen: Vom 6. September 2025 bis 14. Februar 2026 zeigt das Museum die Ausstellung „Niki. Kusama. Murakami. Love You For Infinity“ – ein künstlerischer Trialog zwischen drei Ikonen der Gegenwartskunst. Möglich wird das Projekt durch die Förderung von enercity im Rahmen des 200- jährigen Unternehmensjubiläums des Energieunternehmens mit Wurzeln in Hannover. \n„Love You For Infinity“ versteht sich als kraftvolle Verneigung vor drei Künstler*innen\, deren Werke nicht nur die Grenzen zwischen Ost und West\, „Hoch“- und Popkultur\, Kunst und Aktivismus überschreiten – sondern auch generationsübergreifend Menschen bewegen. Anlass ist der 25. Jahrestag der großzügigen Schenkung von über 400 Werken durch Niki de Saint Phalle. \nDie Ausstellung\, die am 5. September feierlich eröffnet wird\, vereint erstmals Werke von Niki de Saint Phalle (1930–2002) mit denen der japanischen Künstler*innen Yayoi Kusama (*1929) und Takashi Murakami (*1962). Was für Saint Phalle die lebensfrohen Nanas sind\, sind für Kusama ihre hypnotischen Polka-Dots und für Murakami die ikonischen\, stilisierten Blumen – Markenzeichen\, die weltweit als Signaturen ihres Schaffens erkannt werden. \nThemen wie überschäumende Lebensfreude\, Liebe und Vergänglichkeit\, Feminismus\, vielfältige Sexualitäten\, männliche Dominanz\, utopisches Denken und existenzielle Angst ziehen sich durch ihre Werke. Ebenso bewegen sich alle drei in den Spannungsfeldern von Kunst und Kommerz\, von individueller Vision und popkultureller Massenwirkung. Was sie verbindet\, ist ihre Leidenschaft für kraftvolle\, farbintensive Bildwelten. \nWeitere Informationen
URL:https://metropolregion.de/veranstaltung/austellung-love-you-for-infinity/
LOCATION:Sprengel Museum\, KURT-SCHWITTERS-PLATZ\, Hannover\, 30169
CATEGORIES:Deutsch-französische Zusammenarbeit,Europäische Zusammenarbeit
ATTACH;FMTTYPE=image/jpeg:https://metropolregion.de/wp-content/uploads/2025/08/18_Portrt_Niki-scaled.jpg
END:VEVENT
BEGIN:VEVENT
DTSTART;VALUE=DATE:20251001
DTEND;VALUE=DATE:20251003
DTSTAMP:20260423T133624
CREATED:20250826T084603Z
LAST-MODIFIED:20250826T085429Z
UID:243275-1759276800-1759449599@metropolregion.de
SUMMARY:Messe | Zukunftsmesse-Nord in Bremen
DESCRIPTION:Mit über 1\,3 Millionen Französischlernenden ist Französisch\, nach Englisch\, die meisterlernte Fremdsprache an deutschen Schulen. Allerdings wählen fast 90% der Schüler*innen das Fach Französisch aus den unterschiedlichsten Gründen zur Oberstufe hin ab. Eine Tendenz\, die sich nicht nur negativ auf bestimmte Studiengänge\, sondern langfristig auch auf die Berufswelt und auf die Zivilgesellschaft auswirkt. \nUm diesem Trend entgegenzuwirken\, wollen die Veranstalter der ZUKUNFTSMESSE NORD den Schüler*innen Möglichkeiten und Perspektiven im frankofonen Raum aufzeigen\, die sich während und insbesondere nach deren Schullaufbahn\, durch das Beherrschen der französischen Sprache ergeben. Die Angebote sollen u.a. die Bereiche Studium\, duales Studium\, Ausbildung\, Arbeitswelt und konkrete Berufsfelder\, (Orientierungs-) Praktika\, Gap Year\, Auslandsaufenthalte und Auslandsstipendien abdecken. Darüber hinaus bietet die Messe Mikrofortbildungen und Informationsveranstaltungen zu ausgewählten Themen an\, wie z. B. Zugang zu (internationalen) Stipendien\, Bewerbungen im frankofonen Kontext\, von Vorbildern lernen\, etc.\nDie Zukunftsmesse Nord richtet sich an Schüler*innen ab der 9. Jahrgangsstufe bis zum Abitur\, und der Berufsschulen\, an Studierende und weiteren Interessierten. \nDie Anmeldungen von Schulgruppen kann ausschließlich durch das Ausfüllen des Anmeldeformular erfolgen. \nAnmeldung_Zukunftsmesse_Nord_Schulen_2025 \nAussteller:inenn gesucht: Sie können aktiv als Aussteller und /oder Fortbildner*in an der Zukunftsmesse Nord mitwirken \n01.10.2025 – 02.10.2025 (jeweils von 09.30 – 15.30 Uhr)\nUniversität Bremen\, Gebäude GW2\, Ebene 2\nUniversitäts-Boulevard 13\, 28359 Bremen \nKONTAKT : Grégoire Fischer | Zukunftsmesse_Nord@web.de | +49/1520/9844241 \nOrganisatoren: Vereinigung der Französischlehrerinnen und -lehrer e. V. (VdF)\, Campus Nord für Frankreich & Frankophonie (CaNoFF)\, Deutsch-Französische-Hochschule (DFH)\, Institut français Deutschland / Französische Botschaft in Berlin\, (VDFG) Vereinigung Deutsch-Französischer Gesellschaften für Europa e.V.
URL:https://metropolregion.de/veranstaltung/messe-zukunftsmesse-nord-in-bremen/
LOCATION:Universität Bremen\, Universitäts-Boulevard 13\, Gebäude GW2\, Ebene 2\, Bremen\, 28359\, Deutschland
CATEGORIES:Deutsch-französische Zusammenarbeit,Europäische Zusammenarbeit
ATTACH;FMTTYPE=image/png:https://metropolregion.de/wp-content/uploads/2025/08/zukunftsmesse-nord.png
END:VEVENT
BEGIN:VEVENT
DTSTART;VALUE=DATE:20251006
DTEND;VALUE=DATE:20251009
DTSTAMP:20260423T133624
CREATED:20250710T103628Z
LAST-MODIFIED:20250710T105101Z
UID:234239-1759708800-1759967999@metropolregion.de
SUMMARY:Expo Real 2025
DESCRIPTION:Die Metropolregion präsentiert sich auch 2025 wieder auf der Expo Real in München – Europas führender Fachmesse für Immobilien und Investitionen. In diesem Jahr wird der Messeauftritt erstmals gemeinsam mit dem Land Niedersachsen organisiert und um Partner aus dem gesamten Bundesland erweitert – von der Metropolregion bis zur Küste. \nAm Gemeinschaftsstand in Halle C1 (Stand 310 und 410) treffen Sie vom 6. bis 8. Oktober 2025 auf 15 Partner aus Kommunen\, Wirtschaftsförderungen und Immobilienwirtschaft. Im Fokus stehen aktuelle Gewerbe- und Bauprojekte sowie Zukunftsthemen rund um Projektentwicklung und Investitionen in Niedersachsen. \nMehr Informationen finden Sie hier: https://metropolregion.de/standortmarketing/exporeal/
URL:https://metropolregion.de/veranstaltung/expo-real-2025/
LOCATION:Messe München\, München
CATEGORIES:Empfohlen,Standortmarketing,Standortmarketing News
ATTACH;FMTTYPE=image/jpeg:https://metropolregion.de/wp-content/uploads/2024/09/20231004_090608-scaled.jpg
END:VEVENT
BEGIN:VEVENT
DTSTART;TZID=Europe/Berlin:20251006T203000
DTEND;TZID=Europe/Berlin:20251006T220000
DTSTAMP:20260423T133624
CREATED:20250903T080345Z
LAST-MODIFIED:20250903T080345Z
UID:244146-1759782600-1759788000@metropolregion.de
SUMMARY:Ciné-Club | Partir un jour
DESCRIPTION:Der Eröffnungsfilm der Filmfestspiele von Cannes ist eine beschwingte Tragikomödie mit Popstar Juliette Armanet. \nEigentlich wollte Cécile mit ihrem Freund Sofiane in Paris ihr eigenes Gourmetrestaurant eröffnen und sich damit einen Traum erfüllen. Als ihr Vater Gérard einen Herzinfarkt erleidet\, kehrt sie in ihre alte Heimat zurück\, um sich um ihn und den Familienbetrieb zu kümmern. Dabei trifft sie ihren früheren Schwarm Raphaël wieder. \nMit: Juliette Armanet\, Bastien Bouillon\, François Rollin\, Tewfik Jallab\, Dominique Blanc \nRegie: Amélie Bonnin \nFrankreich 2025\, OmU (96 Min.)\, FSK: 12 J. \nTrailer
URL:https://metropolregion.de/veranstaltung/cine-club-partir-un-jour/
LOCATION:Kino am Raschplatz\, Am Raschplatz 5\, Hannover\, 30161
CATEGORIES:Deutsch-französische Zusammenarbeit,Europäische Zusammenarbeit
ATTACH;FMTTYPE=image/webp:https://metropolregion.de/wp-content/uploads/2025/09/Partir-un-Jour.webp
END:VEVENT
BEGIN:VEVENT
DTSTART;TZID=Europe/Berlin:20251012T200000
DTEND;TZID=Europe/Berlin:20251012T230000
DTSTAMP:20260423T133624
CREATED:20250812T091758Z
LAST-MODIFIED:20250812T094046Z
UID:237568-1760299200-1760310000@metropolregion.de
SUMMARY:Konzert | Les yeux d'la tête
DESCRIPTION:Aufgewachsen mit Chanson\, genährt von Rock und inspiriert von den Klängen der Weltmusik – das Pariser Sextett liebt es\, die Massen zu begeistern. Nach über 1.000 Konzerten in 12 verschiedenen Ländern ist die Beziehung zwischen ihnen und ihrem Publikum eine nie endende Liebesgeschichte\, die mit jeder Note und jedem Wort weitergeschrieben wird. Liebhaber von Swing\, Tanzflächen-Beats und französischem Chanson dürfen sich freuen: LES YEUX D'LA TÊTE präsentieren uns eine energiegeladene und poetische Musik\, festlich aber einfühlsam\, traditionell und modern zugleich. \nIhre Texte einzigartig\, packend und von kompromisslosem Humor gepickt\, ihre Melodien wunderschön\, tanzbar und mitreißend. Man schunkelt\, tanzt\, lacht\, singt mit und wird von ihrer Dynamik mitgerissen. Eine Musik die zum Träumen\, Denken und Heilen einlädt. \nFreut euch auf eine energiegeladene und beeindruckende Live-Show! \nBeginn um 20 Uhr\nEinlass um 19 Uhr  \nZum Ticket Verkauf\nLes Yeux D'la Tête - 12.10.2025 - Pavillon Hannover \nTickets ab 35\,00 €\nVVK Ermäßigung 29\,50 €  \nMehr zu Les Yeux D’la Tête:\nwww.lesyeuxdlatete.fr\nwww.instagram.com/lesyeuxdlatete\nwww.facebook.com/lesyeuxdlatete
URL:https://metropolregion.de/veranstaltung/konzert-les-yeux-dla-tete-2/
LOCATION:Kulturzentrum Pavillon\, Lister Meile 4\, Hannover\, 30161
CATEGORIES:Deutsch-französische Zusammenarbeit,Europäische Zusammenarbeit
END:VEVENT
BEGIN:VEVENT
DTSTART;TZID=Europe/Berlin:20251014T200000
DTEND;TZID=Europe/Berlin:20251014T213000
DTSTAMP:20260423T133624
CREATED:20250915T070941Z
LAST-MODIFIED:20250915T073240Z
UID:244902-1760472000-1760477400@metropolregion.de
SUMMARY:Cinéma | Close
DESCRIPTION:"Close" ist nach dem gefeierten Drama "Girl" der zweite Spielfilm des belgischen Filmemachers Lukas Dhont\, in welchem er die Geschichte jugendlicher Figuren in einer Ausnahmesituation erzählt. Es ist ein schmerzhaftes Drama über Freundschaft und verinnerlichte Homophobie. \nLéo und Remi\, 13 Jahre alt\, sind beste Freunde – und auch in der neuen Schule in einer Klasse. Die zwei Jungs verbringen bis dahin jede freie Sekunde miteinander\, Léo übernachtet bei Remi\, sitzt bei dessen Oboen-Konzert im Publikum. Die Jungs sind sich körperlich näher als andere Gleichaltrige\, daher die Frage einer Mitschülerin. \n"Seid ihr eigentlich zusammen?" – Eine Frage\, die für Léo eben nicht beiläufig ist\, sondern verhängnisvoll\, die ihn merklich erschüttert. Eine Frage\, nach der nichts mehr ist\, wie es einmal war. \n- Veranstaltung mit Einführung und Gespräch. \nMit:  Eden Dambrine\, Gustav De Waele\, Emilie Dequenne \nRegie: Lukas Dhont \nFrankreich 2022\, OmU (105 Min.)\, FSK. 12 J. \nTrailer 
URL:https://metropolregion.de/veranstaltung/cinema-close/
LOCATION:Kino im Künstlerhaus\, Sophienstrasse 2\, Hannover\, 30159
CATEGORIES:Deutsch-französische Zusammenarbeit,Europäische Zusammenarbeit
ATTACH;FMTTYPE=image/webp:https://metropolregion.de/wp-content/uploads/2025/09/5597821.webp
END:VEVENT
BEGIN:VEVENT
DTSTART;TZID=Europe/Berlin:20251015T180000
DTEND;TZID=Europe/Berlin:20251015T193000
DTSTAMP:20260423T133624
CREATED:20250915T072321Z
LAST-MODIFIED:20251015T135302Z
UID:244910-1760551200-1760556600@metropolregion.de
SUMMARY:Cinéma | La planète sauvage
DESCRIPTION:Im Rahmen der Filmphilosophischen Filmreihe "Das Sichtbare und das Sagbare" mit Einführung von Philosophie-Studentin Theresa Vorwerk. \nIrgendwo\, in den Tiefen des Weltalls\, auf einem wilden\, geheimnisvollen Planeten: Terr\, ein kleiner Om-Junge\, wächst bei seiner Besitzerin\, dem Draag-Mädchen Tiwa\, auf. Als es ihm eines Tages gelingt\, zu flüchten\, entdeckt er\, dass es wildlebende Om gibt\, die sich gegen die Unterdrückung und Verfolgung der Draag zur Wehr setzen.\nTerr teilt das Wissen\, dass er sich bei Tiwa angeeignet hat\, mit seinen neuen Freunden\, und zusammen versuchen sie\, die Machtverhältnisse auf dem Planeten neu zu gestalten. \nMit welchen Narrativen erhebt sich die eine Kultur über die Andere? Wieviel Macht verleiht Wissen? René Laloux’ wunderschöner\, psychedelischer Animationsfilm von 1973 lässt uns eintauchen in eine fremde Welt mit nur allzu bekannten Hierarchien. Eine philosophisch-surrealistische Parabel über Unterdrückung und Widerstand. \nMit: Jean Valmont\, Jennifer Drake\, Sylvie Lenoir \nRegie: René Laloux \nFrankreich/Tschechien 1973\, OmU (72 Min.)\, FSK. 12 J.
URL:https://metropolregion.de/veranstaltung/cinema-la-planete-sauvage/
LOCATION:Kino im Künstlerhaus\, Sophienstrasse 2\, Hannover\, 30159
CATEGORIES:Deutsch-französische Zusammenarbeit,Europäische Zusammenarbeit
END:VEVENT
BEGIN:VEVENT
DTSTART;TZID=Europe/Berlin:20251020T203000
DTEND;TZID=Europe/Berlin:20251020T220000
DTSTAMP:20260423T133624
CREATED:20250903T081301Z
LAST-MODIFIED:20250903T081301Z
UID:244152-1760992200-1760997600@metropolregion.de
SUMMARY:Ciné-Club | Marie-Line et son juge
DESCRIPTION:Ein berührender und manchmal hinreißend komischer Film über zweite Chancen\, stille Freundschaften und die zarte Hoffnung\, dass das Leben trotz aller widrigen Umstände immer noch etwas Gutes bereithält. \nMarie-Line (Louane Emera)\, eine junge Kellnerin\, schlägt sich gerade so durchs Leben.\nNach einem heftigen Streit mit ihrem Freund verliert sie nicht nur ihren Job\, sondern wird auch noch zu einer hohen Geldstrafe verurteilt. Der zuständige Richter Gilles (Michel Blanc) – kurz vor dem Ruhestand\, desillusioniert und in seiner eigenen Welt lebend – erkennt in Marie-Line jedoch mehr als nur eine Akte. \n"Wie wäre es mit einem kleinen französischen FEEL-GOOD-MOVIE" Paris Match \nMit: Louane Emera\, Michel BLanc\, Victor Belmondo\, Fabien Giameluca \nRegie: Jean-Pierre Améris \nFrankreich 2023\, OmU (105 Min.)\, FSK: 12 J. \nTrailer
URL:https://metropolregion.de/veranstaltung/cine-club-marie-line-et-son-juge/
LOCATION:Kino am Raschplatz\, Am Raschplatz 5\, Hannover\, 30161
CATEGORIES:Deutsch-französische Zusammenarbeit,Europäische Zusammenarbeit
ATTACH;FMTTYPE=image/webp:https://metropolregion.de/wp-content/uploads/2025/09/Marie-Line-et-son-juge.webp
END:VEVENT
BEGIN:VEVENT
DTSTART;TZID=Europe/Berlin:20251024T193000
DTEND;TZID=Europe/Berlin:20251024T210000
DTSTAMP:20260423T133624
CREATED:20250812T102442Z
LAST-MODIFIED:20251015T135109Z
UID:237581-1761334200-1761339600@metropolregion.de
SUMMARY:Konzert | Amarte Ensemble | 150 Jahre Ravel
DESCRIPTION:In der außergewöhnlichen Besetzung mit zwei Harfen\, Querflöte und Viola präsentiert das Amarte Ensemble neben Originalliteratur vor allem eigene Arrangements von Werken französischer Komponisten wie Ravel und Debussy\, die für gewöhnlich nur mit groß besetztem Orchester zu hören sind. Die Klangfarbenvielfalt\, der besonders bei den Impressionisten beliebten Orchesterinstrumente und die Klangfülle zweier Harfen\, machen das Konzert zu einem außergewöhnlichen Erlebnis. \n"Mit einfühlsamen Moderationen der Musiker*innen und wundervollem\, meisterhaften Spiel zeigte das Amarte-Ensemble (...)\, dass auch mit einer kleineren Besetzung Konzerterlebnisse geschaffen werden können\, die an große Konzerthäuser heranreichen." –Quelle \nKonzert um 19:30 Uhr (Dauer ca. 1 Stunde 15 Minuten\, ohne Pause)\nEinlass um 19:00 Uhr \nEintritt ermäßigt: 15€ für DFG-Mitglieder und Studenten\nEintritt Normalpreis: 25€ \nTickets im Vorverkauf hier. \nWenige Parkplätze / Anfahrt mit ÖPNV bis Markthalle/Landtag oder Kröpke empfohlen
URL:https://metropolregion.de/veranstaltung/konzert-amarte-ensemble-150-jahre-ravel/
LOCATION:Leibnizhaus\, Holzmarkt 4-6\, Hannover\, 30159
CATEGORIES:Deutsch-französische Zusammenarbeit,Europäische Zusammenarbeit
END:VEVENT
BEGIN:VEVENT
DTSTART;TZID=Europe/Berlin:20251025T180000
DTEND;TZID=Europe/Berlin:20251025T193000
DTSTAMP:20260423T133624
CREATED:20251015T084029Z
LAST-MODIFIED:20251015T134729Z
UID:247701-1761415200-1761420600@metropolregion.de
SUMMARY:Cinéma | Parlez-vous français?
DESCRIPTION:Im Rahmen des PERLEN Queer Film Festival 2025\, führt das Kommunale Kino im Künstlerhaus Hannover erstmals ganze 6 französischsprachige Kurzfilme auf\, in ihrer Originalfassung mit deutschen Untertiteln\, welche die Vielfalt des queeren Filmschaffens im frankophonen Raum zeigen. \nWährend des ca. 99 Minuten langen Programm werden die Kurzfilme diverser Regisseur*innen vorgeführt\, unter anderem: \n\nOu mazine pas (La Réunion 2024\, Marcelino Méduse)\nÀ Poings et à Cœurs (Frankreich 2024\, Augustine Callie)\nLa Tentation du Panda Roux (Frankreich 2023\, Haïga Jappain)\nGigi (Frankreich 2023\, Cynthia Calvi)\nWild Wild Heart (Schweiz 2025\, Margaux Fazio)\nLa Couleur du Chlore (Frankreich 2024\, Clément Dezelus)\n\nMehr Informationen zu den Kurzfilmen und dessen Handlungen finden Sie hier. \n  \nFrankreich 2023-2025\, OmU (99 Min.)\, FSK: -
URL:https://metropolregion.de/veranstaltung/cinema-parlez-vous-francais/
LOCATION:Kino im Künstlerhaus\, Sophienstrasse 2\, Hannover\, 30159
CATEGORIES:Deutsch-französische Zusammenarbeit,Europäische Zusammenarbeit
ATTACH;FMTTYPE=image/jpeg:https://metropolregion.de/wp-content/uploads/2025/10/Perlen-Logo_RGB.jpg
ORGANIZER;CN="Perlen Queer Film Festival Hannover":MAILTO:perlen-hannover@gmx.de
END:VEVENT
BEGIN:VEVENT
DTSTART;TZID=Europe/Berlin:20251027T203000
DTEND;TZID=Europe/Berlin:20251027T203000
DTSTAMP:20260423T133624
CREATED:20250903T082532Z
LAST-MODIFIED:20250903T083629Z
UID:244157-1761597000-1761597000@metropolregion.de
SUMMARY:Ciné-Club | La venue de l'avenir
DESCRIPTION:Im Jahr 2025 erfahren 30 entfernte Verwandte\, dass sie ein seit Jahren leerstehendes Haus in der Normandie erben werden. Vier Cousinen und Cousins werden beauftragt\, das Haus zu inspizieren und stoßen auf die Spuren der geheimnisvollen Adèle. Durch gemeinsame Aufarbeitung erfahren sie mehr über ihre Ahnin\, die mit 20 Jahren ihre Heimat verließ\, um in Paris nach ihrer Mutter zu suchen. \n1895 in der Hauptstadt angekommen\, erlebt Adèle das Fin de Siècle inmitten einer industriellen und kulturellen Revolution. Durch ihre introspektive Reise in ihrer Genealogie entdecken die vier Nachfahr*innen einen besonderen Moment am Ende des 19. Jahrhunderts\, geprägt durch den Impressionismus und die Fotografie. \nMit: Cécile De France\, Vassili Schneider\, Vincent Perez\, Vincent Macaigne\, Sara Giraudeau \nRegie: Cédric Klapisch \nFrankreich 2025\, OmU (124 Min.)\, FSK: 12 J. \nTrailer
URL:https://metropolregion.de/veranstaltung/cine-club-la-venue-de-lavenir/
LOCATION:Kino am Raschplatz\, Am Raschplatz 5\, Hannover\, 30161
CATEGORIES:Deutsch-französische Zusammenarbeit,Europäische Zusammenarbeit
END:VEVENT
BEGIN:VEVENT
DTSTART;TZID=Europe/Berlin:20251030T200000
DTEND;TZID=Europe/Berlin:20251030T220000
DTSTAMP:20260423T133624
CREATED:20251015T090016Z
LAST-MODIFIED:20251015T134823Z
UID:247706-1761854400-1761861600@metropolregion.de
SUMMARY:Cinéma | Rivière
DESCRIPTION:Die 17-jährige Eishockeyspielerin Manon sucht nach Antworten - und nach ihrem Vater. Aus den Schweizer Alpen trampt sie in die französische Kleinstadt Belfort. In der dortigen Eishalle begegnet sie der Clique um die talentierte Eiskunstläuferin Karine. Einsamkeit und Verletzungen\, aber auch Ehrgeiz und Teamgeist führen die beiden Hauptdarstellerinnen zusammen.\nAber die Suche der jungen Frau nach Identität\, Zugehörigkeit und Sinn vollzieht sich in einer Männerdomäne\, in der Auseinandersetzungen körperlich\, aggressiv und über Wettkampf ausgetragen werden. \nMit RIVIÈRE hat Regisseur Hugues Hariche einen feinfühligen und vielschichtigen Film geschaffen\, in dem vieles wortlos\, beiläufig und durch Blicke erzählt wird und der ordentlich unter die Haut geht. \nDieser Film wird im KOKI vorgeführt als Teil des PERLEN Queer Film Festival 2025. \nMit:  Flavie Delangle\, Sarah Bramms\, Camille Rutherford \nRegie: Hugues Hariche \nFrankreich/Schweiz 2023\, OmU (104 Min.)\, FSK: - \nTrailer
URL:https://metropolregion.de/veranstaltung/cinema-riviere/
LOCATION:Kino im Künstlerhaus\, Sophienstrasse 2\, Hannover\, 30159
CATEGORIES:Deutsch-französische Zusammenarbeit,Europäische Zusammenarbeit
ATTACH;FMTTYPE=image/jpeg:https://metropolregion.de/wp-content/uploads/2025/10/5288154.jpg
ORGANIZER;CN="Perlen Queer Film Festival Hannover":MAILTO:perlen-hannover@gmx.de
END:VEVENT
END:VCALENDAR